BEGIN:VCALENDAR
VERSION:2.0
PRODID:-//Sungate Living - ECPv6.15.20//NONSGML v1.0//EN
CALSCALE:GREGORIAN
METHOD:PUBLISH
X-ORIGINAL-URL:https://sungateliving.com
X-WR-CALDESC:Events for Sungate Living
REFRESH-INTERVAL;VALUE=DURATION:PT1H
X-Robots-Tag:noindex
X-PUBLISHED-TTL:PT1H
BEGIN:VTIMEZONE
TZID:America/Chicago
BEGIN:DAYLIGHT
TZOFFSETFROM:-0600
TZOFFSETTO:-0500
TZNAME:CDT
DTSTART:20250309T080000
END:DAYLIGHT
BEGIN:STANDARD
TZOFFSETFROM:-0500
TZOFFSETTO:-0600
TZNAME:CST
DTSTART:20251102T070000
END:STANDARD
BEGIN:DAYLIGHT
TZOFFSETFROM:-0600
TZOFFSETTO:-0500
TZNAME:CDT
DTSTART:20260308T080000
END:DAYLIGHT
BEGIN:STANDARD
TZOFFSETFROM:-0500
TZOFFSETTO:-0600
TZNAME:CST
DTSTART:20261101T070000
END:STANDARD
BEGIN:DAYLIGHT
TZOFFSETFROM:-0600
TZOFFSETTO:-0500
TZNAME:CDT
DTSTART:20270314T080000
END:DAYLIGHT
BEGIN:STANDARD
TZOFFSETFROM:-0500
TZOFFSETTO:-0600
TZNAME:CST
DTSTART:20271107T070000
END:STANDARD
END:VTIMEZONE
BEGIN:VEVENT
DTSTART;TZID=America/Chicago:20260516T160000
DTEND;TZID=America/Chicago:20260516T223000
DTSTAMP:20260422T121941
CREATED:20260328T024412Z
LAST-MODIFIED:20260413T171717Z
UID:8325-1778947200-1778970600@sungateliving.com
SUMMARY:Open House & Movie on the Lawn
DESCRIPTION:Stop by the pool beginning at 4 pm to check out pool party rentals\, swim lessons. We can answer general questions as well.  \n\n\n\nStick around (or come back) for a Movie on the Lawn.  \n\n\n\nStarting at 6 pm\, the family can enjoy grilled hotdogs\, music\, lawn games\, and inflatables for the kids while you wait for “The Sandlot” to start at 8:15 pm.  \n\n\n\n\n\n\n\n\n\n\nShare this:\n				Share on Facebook (Opens in new window)\n				Facebook\n			\n				Share on X (Opens in new window)\n				X
URL:https://sungateliving.com/event/open-house-movie-on-the-lawn/
ORGANIZER;CN="Sungate Neighbors Inc.":MAILTO:admin@sungateliving.com
END:VEVENT
BEGIN:VEVENT
DTSTART;TZID=America/Chicago:20260518T183000
DTEND;TZID=America/Chicago:20260518T200000
DTSTAMP:20260422T121941
CREATED:20260328T031425Z
LAST-MODIFIED:20260328T031427Z
UID:8340-1779129000-1779134400@sungateliving.com
SUMMARY:SNI Board Meeting
DESCRIPTION:Monthly board meeting. Residents are welcome to attend. \n\n\n\n\n\n\n\n\n\n\nShare this:\n				Share on Facebook (Opens in new window)\n				Facebook\n			\n				Share on X (Opens in new window)\n				X
URL:https://sungateliving.com/event/sni-board-meeting-11/
ORGANIZER;CN="Sungate Neighbors Inc.":MAILTO:admin@sungateliving.com
END:VEVENT
BEGIN:VEVENT
DTSTART;TZID=America/Chicago:20260523T100000
DTEND;TZID=America/Chicago:20260523T200000
DTSTAMP:20260422T121941
CREATED:20260328T025159Z
LAST-MODIFIED:20260328T025201Z
UID:8336-1779530400-1779566400@sungateliving.com
SUMMARY:Pool Opens
DESCRIPTION:Sungate Pool opens! \n\n\n\n\n\n\n\n\n\n\nShare this:\n				Share on Facebook (Opens in new window)\n				Facebook\n			\n				Share on X (Opens in new window)\n				X
URL:https://sungateliving.com/event/pool-opens/
ORGANIZER;CN="Sungate Pool":MAILTO:admin@sungateliving.com
END:VEVENT
BEGIN:VEVENT
DTSTART;TZID=America/Chicago:20260525T130000
DTEND;TZID=America/Chicago:20260525T200000
DTSTAMP:20260422T121941
CREATED:20260328T025035Z
LAST-MODIFIED:20260328T025038Z
UID:8334-1779714000-1779739200@sungateliving.com
SUMMARY:Memorial Day
DESCRIPTION:We are open on Memorial Day. Make plans to spend the day with us.  \n\n\n\n\n\n\n\n\n\n\nShare this:\n				Share on Facebook (Opens in new window)\n				Facebook\n			\n				Share on X (Opens in new window)\n				X
URL:https://sungateliving.com/event/memorial-day/
ORGANIZER;CN="Sungate Pool":MAILTO:admin@sungateliving.com
END:VEVENT
END:VCALENDAR