BEGIN:VCALENDAR
VERSION:2.0
PRODID:-//Sungate Living - ECPv6.15.20//NONSGML v1.0//EN
CALSCALE:GREGORIAN
METHOD:PUBLISH
X-WR-CALNAME:Sungate Living
X-ORIGINAL-URL:https://sungateliving.com
X-WR-CALDESC:Events for Sungate Living
REFRESH-INTERVAL;VALUE=DURATION:PT1H
X-Robots-Tag:noindex
X-PUBLISHED-TTL:PT1H
BEGIN:VTIMEZONE
TZID:America/Chicago
BEGIN:DAYLIGHT
TZOFFSETFROM:-0600
TZOFFSETTO:-0500
TZNAME:CDT
DTSTART:20240310T080000
END:DAYLIGHT
BEGIN:STANDARD
TZOFFSETFROM:-0500
TZOFFSETTO:-0600
TZNAME:CST
DTSTART:20241103T070000
END:STANDARD
BEGIN:DAYLIGHT
TZOFFSETFROM:-0600
TZOFFSETTO:-0500
TZNAME:CDT
DTSTART:20250309T080000
END:DAYLIGHT
BEGIN:STANDARD
TZOFFSETFROM:-0500
TZOFFSETTO:-0600
TZNAME:CST
DTSTART:20251102T070000
END:STANDARD
BEGIN:DAYLIGHT
TZOFFSETFROM:-0600
TZOFFSETTO:-0500
TZNAME:CDT
DTSTART:20260308T080000
END:DAYLIGHT
BEGIN:STANDARD
TZOFFSETFROM:-0500
TZOFFSETTO:-0600
TZNAME:CST
DTSTART:20261101T070000
END:STANDARD
END:VTIMEZONE
BEGIN:VEVENT
DTSTART;TZID=America/Chicago:20250808T180000
DTEND;TZID=America/Chicago:20250808T210000
DTSTAMP:20260422T235648
CREATED:20250601T233422Z
LAST-MODIFIED:20250601T233426Z
UID:8150-1754676000-1754686800@sungateliving.com
SUMMARY:Luau Late Night Swim
DESCRIPTION:Don’t miss our Luau Party tradition. Costume contest\, the limbo and much more! \n\n\n\n\n\n\n\n\n\n\nShare this:\n				Share on Facebook (Opens in new window)\n				Facebook\n			\n				Share on X (Opens in new window)\n				X
URL:https://sungateliving.com/event/luau-late-night-swim-2/
ORGANIZER;CN="Sungate Pool":MAILTO:admin@sungateliving.com
END:VEVENT
BEGIN:VEVENT
DTSTART;TZID=America/Chicago:20250831T180000
DTEND;TZID=America/Chicago:20250831T210000
DTSTAMP:20260422T235648
CREATED:20250330T163541Z
LAST-MODIFIED:20250828T034005Z
UID:8069-1756663200-1756674000@sungateliving.com
SUMMARY:CANCELED: Annual Cornhole Tournament
DESCRIPTION:Open to Sungate pool members and all Sungate residents. \n\n\n\nTeams of two\, ages 12 and older\, will play for trophies and prizes in this double elimination tournament. Boards will be provided. Free to play. \n\n\n\nCheck-in begins at 6 pm and first round starts at 6:30 p.m. Games run up to 15 minutes. The time of the Championship Game will be determined based on number of teams and elimination rounds. \n\n\n\nPrizes for 1st Place and 2nd Place finishers as well as a Best Team Name award. \n\n\n\nSign up at sungateliving.com/cornhole starting soon. \n\n\n\n\n\n\n\n\n\n\nShare this:\n				Share on Facebook (Opens in new window)\n				Facebook\n			\n				Share on X (Opens in new window)\n				X
URL:https://sungateliving.com/event/sungate-annual-cornhole-tournament-2/
ORGANIZER;CN="Sungate Pool":MAILTO:admin@sungateliving.com
END:VEVENT
END:VCALENDAR