BEGIN:VCALENDAR
VERSION:2.0
PRODID:-//Sungate Living - ECPv6.15.20//NONSGML v1.0//EN
CALSCALE:GREGORIAN
METHOD:PUBLISH
X-WR-CALNAME:Sungate Living
X-ORIGINAL-URL:https://sungateliving.com
X-WR-CALDESC:Events for Sungate Living
REFRESH-INTERVAL;VALUE=DURATION:PT1H
X-Robots-Tag:noindex
X-PUBLISHED-TTL:PT1H
BEGIN:VTIMEZONE
TZID:America/Chicago
BEGIN:DAYLIGHT
TZOFFSETFROM:-0600
TZOFFSETTO:-0500
TZNAME:CDT
DTSTART:20240310T080000
END:DAYLIGHT
BEGIN:STANDARD
TZOFFSETFROM:-0500
TZOFFSETTO:-0600
TZNAME:CST
DTSTART:20241103T070000
END:STANDARD
BEGIN:DAYLIGHT
TZOFFSETFROM:-0600
TZOFFSETTO:-0500
TZNAME:CDT
DTSTART:20250309T080000
END:DAYLIGHT
BEGIN:STANDARD
TZOFFSETFROM:-0500
TZOFFSETTO:-0600
TZNAME:CST
DTSTART:20251102T070000
END:STANDARD
BEGIN:DAYLIGHT
TZOFFSETFROM:-0600
TZOFFSETTO:-0500
TZNAME:CDT
DTSTART:20260308T080000
END:DAYLIGHT
BEGIN:STANDARD
TZOFFSETFROM:-0500
TZOFFSETTO:-0600
TZNAME:CST
DTSTART:20261101T070000
END:STANDARD
END:VTIMEZONE
BEGIN:VEVENT
DTSTART;TZID=America/Chicago:20250613T180000
DTEND;TZID=America/Chicago:20250613T200000
DTSTAMP:20260423T034507
CREATED:20250602T034930Z
LAST-MODIFIED:20250602T034933Z
UID:8164-1749837600-1749844800@sungateliving.com
SUMMARY:Food Truck Friday
DESCRIPTION:Grab some delicious dinner during our Food Truck Friday.  \n\n\n\n\n\n\n\n\n\n\nShare this:\n				Share on Facebook (Opens in new window)\n				Facebook\n			\n				Share on X (Opens in new window)\n				X
URL:https://sungateliving.com/event/food-truck-friday-2/
ORGANIZER;CN="Sungate Pool":MAILTO:admin@sungateliving.com
END:VEVENT
BEGIN:VEVENT
DTSTART;TZID=America/Chicago:20250613T190000
DTEND;TZID=America/Chicago:20250613T210000
DTSTAMP:20260423T034507
CREATED:20250602T035346Z
LAST-MODIFIED:20250602T035349Z
UID:8168-1749841200-1749848400@sungateliving.com
SUMMARY:Thunder Watch Party
DESCRIPTION:Game 4 may be the big win for the OKC Thunder. We’ll have the game on so you don’t miss a thing.  \n\n\n\n\n\n\n\n\n\n\nShare this:\n				Share on Facebook (Opens in new window)\n				Facebook\n			\n				Share on X (Opens in new window)\n				X
URL:https://sungateliving.com/event/thunder-watch-party/
ORGANIZER;CN="Sungate Pool":MAILTO:admin@sungateliving.com
END:VEVENT
BEGIN:VEVENT
DTSTART;TZID=America/Chicago:20250615T100000
DTEND;TZID=America/Chicago:20250615T130000
DTSTAMP:20260423T034507
CREATED:20250602T034815Z
LAST-MODIFIED:20250602T034819Z
UID:8162-1749981600-1749992400@sungateliving.com
SUMMARY:Father's Day Brunch
DESCRIPTION:Join us for a private event for families. Tickets on sale soon. \n\n\n\n\n\n\n\n\n\n\nShare this:\n				Share on Facebook (Opens in new window)\n				Facebook\n			\n				Share on X (Opens in new window)\n				X
URL:https://sungateliving.com/event/fathers-day-brunch/
ORGANIZER;CN="Sungate Pool":MAILTO:admin@sungateliving.com
END:VEVENT
BEGIN:VEVENT
DTSTART;TZID=America/Chicago:20250623T183000
DTEND;TZID=America/Chicago:20250623T200000
DTSTAMP:20260423T034507
CREATED:20250330T170328Z
LAST-MODIFIED:20250330T170332Z
UID:8075-1750703400-1750708800@sungateliving.com
SUMMARY:SNI Board Meeting
DESCRIPTION:Monthly board meeting. Residents are welcome to attend. \n\n\n\n\n\n\n\n\n\n\nShare this:\n				Share on Facebook (Opens in new window)\n				Facebook\n			\n				Share on X (Opens in new window)\n				X
URL:https://sungateliving.com/event/board-meeting-june2025/
ORGANIZER;CN="Sungate Neighbors Inc.":MAILTO:admin@sungateliving.com
END:VEVENT
BEGIN:VEVENT
DTSTART;TZID=America/Chicago:20250627T180000
DTEND;TZID=America/Chicago:20250627T200000
DTSTAMP:20260423T034507
CREATED:20250602T035055Z
LAST-MODIFIED:20250602T035057Z
UID:8166-1751047200-1751054400@sungateliving.com
SUMMARY:Food Truck Friday
DESCRIPTION:It’s too hot to cook\, hit the pool and grab a quick dinner.  \n\n\n\n\n\n\n\n\n\n\nShare this:\n				Share on Facebook (Opens in new window)\n				Facebook\n			\n				Share on X (Opens in new window)\n				X
URL:https://sungateliving.com/event/food-truck-friday-3/
ORGANIZER;CN="Sungate Pool":MAILTO:admin@sungateliving.com
END:VEVENT
BEGIN:VEVENT
DTSTART;TZID=America/Chicago:20250627T180000
DTEND;TZID=America/Chicago:20250627T210000
DTSTAMP:20260423T034507
CREATED:20250601T233206Z
LAST-MODIFIED:20250601T233210Z
UID:8148-1751047200-1751058000@sungateliving.com
SUMMARY:Slide Night Late Night Swim
DESCRIPTION:Enjoy an extra hour at Sungate with large inflatable slide for the kids. Plus it’s Food Truck Friday. \n\n\n\n\n\n\n\n\n\n\nShare this:\n				Share on Facebook (Opens in new window)\n				Facebook\n			\n				Share on X (Opens in new window)\n				X
URL:https://sungateliving.com/event/slide-night-late-night-swim-3/
LOCATION:Sungate Pool\, 5358 S 70th East Pl\, Tulsa\, 74145
ORGANIZER;CN="Sungate Pool":MAILTO:admin@sungateliving.com
END:VEVENT
END:VCALENDAR