BEGIN:VCALENDAR
VERSION:2.0
PRODID:-//Sungate Living - ECPv6.15.20//NONSGML v1.0//EN
CALSCALE:GREGORIAN
METHOD:PUBLISH
X-WR-CALNAME:Sungate Living
X-ORIGINAL-URL:https://sungateliving.com
X-WR-CALDESC:Events for Sungate Living
REFRESH-INTERVAL;VALUE=DURATION:PT1H
X-Robots-Tag:noindex
X-PUBLISHED-TTL:PT1H
BEGIN:VTIMEZONE
TZID:America/Chicago
BEGIN:DAYLIGHT
TZOFFSETFROM:-0600
TZOFFSETTO:-0500
TZNAME:CDT
DTSTART:20230312T080000
END:DAYLIGHT
BEGIN:STANDARD
TZOFFSETFROM:-0500
TZOFFSETTO:-0600
TZNAME:CST
DTSTART:20231105T070000
END:STANDARD
BEGIN:DAYLIGHT
TZOFFSETFROM:-0600
TZOFFSETTO:-0500
TZNAME:CDT
DTSTART:20240310T080000
END:DAYLIGHT
BEGIN:STANDARD
TZOFFSETFROM:-0500
TZOFFSETTO:-0600
TZNAME:CST
DTSTART:20241103T070000
END:STANDARD
BEGIN:DAYLIGHT
TZOFFSETFROM:-0600
TZOFFSETTO:-0500
TZNAME:CDT
DTSTART:20250309T080000
END:DAYLIGHT
BEGIN:STANDARD
TZOFFSETFROM:-0500
TZOFFSETTO:-0600
TZNAME:CST
DTSTART:20251102T070000
END:STANDARD
END:VTIMEZONE
BEGIN:VEVENT
DTSTART;TZID=America/Chicago:20240809T180000
DTEND;TZID=America/Chicago:20240809T210000
DTSTAMP:20260423T192403
CREATED:20240702T182544Z
LAST-MODIFIED:20240702T182548Z
UID:7904-1723226400-1723237200@sungateliving.com
SUMMARY:Olympic Late Night Swim
DESCRIPTION:Share this:\n				Share on Facebook (Opens in new window)\n				Facebook\n			\n				Share on X (Opens in new window)\n				X
URL:https://sungateliving.com/event/olympic-late-night-swim/
LOCATION:Sungate Pool\, 5358 S 70th East Pl\, Tulsa\, 74145
END:VEVENT
BEGIN:VEVENT
DTSTART;TZID=America/Chicago:20240817T200000
DTEND;TZID=America/Chicago:20240817T230000
DTSTAMP:20260423T192403
CREATED:20240702T182646Z
LAST-MODIFIED:20240702T182649Z
UID:7906-1723924800-1723935600@sungateliving.com
SUMMARY:60th Birthday Bash
DESCRIPTION:Adults Only \n\n\n\n\n\n\n\n\n\n\nShare this:\n				Share on Facebook (Opens in new window)\n				Facebook\n			\n				Share on X (Opens in new window)\n				X
URL:https://sungateliving.com/event/60th-birthday-bash/
LOCATION:Sungate Pool\, 5358 S 70th East Pl\, Tulsa\, 74145
END:VEVENT
BEGIN:VEVENT
DTSTART;TZID=America/Chicago:20240823T180000
DTEND;TZID=America/Chicago:20240823T210000
DTSTAMP:20260423T192403
CREATED:20240702T182752Z
LAST-MODIFIED:20240702T182755Z
UID:7908-1724436000-1724446800@sungateliving.com
SUMMARY:Luau Late Night Swim
DESCRIPTION:Share this:\n				Share on Facebook (Opens in new window)\n				Facebook\n			\n				Share on X (Opens in new window)\n				X
URL:https://sungateliving.com/event/luau-late-night-swim/
LOCATION:Sungate Pool\, 5358 S 70th East Pl\, Tulsa\, 74145
END:VEVENT
END:VCALENDAR