BEGIN:VCALENDAR
VERSION:2.0
PRODID:-//Sungate Living - ECPv6.15.20//NONSGML v1.0//EN
CALSCALE:GREGORIAN
METHOD:PUBLISH
X-WR-CALNAME:Sungate Living
X-ORIGINAL-URL:https://sungateliving.com
X-WR-CALDESC:Events for Sungate Living
REFRESH-INTERVAL;VALUE=DURATION:PT1H
X-Robots-Tag:noindex
X-PUBLISHED-TTL:PT1H
BEGIN:VTIMEZONE
TZID:America/Chicago
BEGIN:DAYLIGHT
TZOFFSETFROM:-0600
TZOFFSETTO:-0500
TZNAME:CDT
DTSTART:20230312T080000
END:DAYLIGHT
BEGIN:STANDARD
TZOFFSETFROM:-0500
TZOFFSETTO:-0600
TZNAME:CST
DTSTART:20231105T070000
END:STANDARD
BEGIN:DAYLIGHT
TZOFFSETFROM:-0600
TZOFFSETTO:-0500
TZNAME:CDT
DTSTART:20240310T080000
END:DAYLIGHT
BEGIN:STANDARD
TZOFFSETFROM:-0500
TZOFFSETTO:-0600
TZNAME:CST
DTSTART:20241103T070000
END:STANDARD
BEGIN:DAYLIGHT
TZOFFSETFROM:-0600
TZOFFSETTO:-0500
TZNAME:CDT
DTSTART:20250309T080000
END:DAYLIGHT
BEGIN:STANDARD
TZOFFSETFROM:-0500
TZOFFSETTO:-0600
TZNAME:CST
DTSTART:20251102T070000
END:STANDARD
END:VTIMEZONE
BEGIN:VEVENT
DTSTART;TZID=America/Chicago:20240614T170000
DTEND;TZID=America/Chicago:20240614T190000
DTSTAMP:20260423T223227
CREATED:20240528T150701Z
LAST-MODIFIED:20240528T150936Z
UID:7875-1718384400-1718391600@sungateliving.com
SUMMARY:Food Truck Fridays: V'fresco Tacos
DESCRIPTION:V’Fresco Tacos will be serving up authentic tacos. \n\n\n\n\n\n\n\n\n\n\nShare this:\n				Share on Facebook (Opens in new window)\n				Facebook\n			\n				Share on X (Opens in new window)\n				X
URL:https://sungateliving.com/event/food-truck-friday-vfresco-tacos/
END:VEVENT
BEGIN:VEVENT
DTSTART;TZID=America/Chicago:20240624T183000
DTEND;TZID=America/Chicago:20240624T193000
DTSTAMP:20260423T223227
CREATED:20240314T025248Z
LAST-MODIFIED:20240314T025250Z
UID:7757-1719253800-1719257400@sungateliving.com
SUMMARY:SNI Board Meeting
DESCRIPTION:Share this:\n				Share on Facebook (Opens in new window)\n				Facebook\n			\n				Share on X (Opens in new window)\n				X
URL:https://sungateliving.com/event/sni-board-meeting-7/
LOCATION:Sungate Pool\, 5358 S 70th East Pl\, Tulsa\, 74145
ORGANIZER;CN="Sungate Neighbors Inc.":MAILTO:admin@sungateliving.com
END:VEVENT
BEGIN:VEVENT
DTSTART;TZID=America/Chicago:20240628T180000
DTEND;TZID=America/Chicago:20240628T200000
DTSTAMP:20260423T223227
CREATED:20240314T175329Z
LAST-MODIFIED:20240314T180336Z
UID:7761-1719597600-1719604800@sungateliving.com
SUMMARY:Sungate Annual Cornhole Tournament
DESCRIPTION:Open to Sungate pool members and all Sungate residents. \n\n\n\nTeams of two\, ages 12 and older\, will play for trophies and prizes in this double elimination tournament. Boards will be provided. Free to play.  \n\n\n\nCheck-in begins at 6 pm and first round starts at 6:15 p.m. Games run up to 15 minutes. The time of the Championship Game will be determined based on number of teams and elimination rounds. \n\n\n\nPrizes for 1st Place and 2nd Place finishers as well as a Best Team Name award.  \n\n\n\nSign up at sungateliving.com/cornhole. \n\n\n\n\n\n\n\n\n\n\nShare this:\n				Share on Facebook (Opens in new window)\n				Facebook\n			\n				Share on X (Opens in new window)\n				X
URL:https://sungateliving.com/event/sungate-annual-cornhole-tournament/
LOCATION:Sungate Pool North Lawn\, 5358 S 70th East Pl
ORGANIZER;CN="Sungate Pool":MAILTO:admin@sungateliving.com
END:VEVENT
END:VCALENDAR