BEGIN:VCALENDAR
VERSION:2.0
PRODID:-//Sungate Living - ECPv6.15.20//NONSGML v1.0//EN
CALSCALE:GREGORIAN
METHOD:PUBLISH
X-ORIGINAL-URL:https://sungateliving.com
X-WR-CALDESC:Events for Sungate Living
REFRESH-INTERVAL;VALUE=DURATION:PT1H
X-Robots-Tag:noindex
X-PUBLISHED-TTL:PT1H
BEGIN:VTIMEZONE
TZID:America/Chicago
BEGIN:DAYLIGHT
TZOFFSETFROM:-0600
TZOFFSETTO:-0500
TZNAME:CDT
DTSTART:20220313T080000
END:DAYLIGHT
BEGIN:STANDARD
TZOFFSETFROM:-0500
TZOFFSETTO:-0600
TZNAME:CST
DTSTART:20221106T070000
END:STANDARD
BEGIN:DAYLIGHT
TZOFFSETFROM:-0600
TZOFFSETTO:-0500
TZNAME:CDT
DTSTART:20230312T080000
END:DAYLIGHT
BEGIN:STANDARD
TZOFFSETFROM:-0500
TZOFFSETTO:-0600
TZNAME:CST
DTSTART:20231105T070000
END:STANDARD
BEGIN:DAYLIGHT
TZOFFSETFROM:-0600
TZOFFSETTO:-0500
TZNAME:CDT
DTSTART:20240310T080000
END:DAYLIGHT
BEGIN:STANDARD
TZOFFSETFROM:-0500
TZOFFSETTO:-0600
TZNAME:CST
DTSTART:20241103T070000
END:STANDARD
END:VTIMEZONE
BEGIN:VEVENT
DTSTART;TZID=America/Chicago:20230908T190000
DTEND;TZID=America/Chicago:20230908T220000
DTSTAMP:20260424T135633
CREATED:20230905T025048Z
LAST-MODIFIED:20230905T025052Z
UID:7588-1694199600-1694210400@sungateliving.com
SUMMARY:Friday Night Float
DESCRIPTION:Join us for a tailgate party with bratwurst\, beverages\, and a ballgame. Free admission. Purchase tickets for brats and beverages or bring your own.  \n\n\n\n\n\n\n\n\n\n\nShare this:\n				Share on Facebook (Opens in new window)\n				Facebook\n			\n				Share on X (Opens in new window)\n				X
URL:https://sungateliving.com/event/friday-night-float/
LOCATION:Sungate Pool\, 5358 S 70th East Pl\, Tulsa\, 74145
END:VEVENT
BEGIN:VEVENT
DTSTART;TZID=America/Chicago:20230915T000000
DTEND;TZID=America/Chicago:20230917T235959
DTSTAMP:20260424T135633
CREATED:20230404T012940Z
LAST-MODIFIED:20230404T012943Z
UID:7188-1694736000-1694995199@sungateliving.com
SUMMARY:Fall Neighborhood Yard Sales
DESCRIPTION:Neighborhood Yard Sales are held twice a year\, in the spring and fall seasons. SNI put up banners at the neighborhood entrances and post digital ads with Tulsa World and on Facebook. Take advantage of the extra people in the area and schedule your yard sale at the same time. \n\n\n\nFree Dumpsters are provided as a neighborhood service by the City of Tulsa. We schedule these on the Monday and Tuesday following the Yard Sale weekends. \n\n\n\n\n\n\n\n\n\n\nShare this:\n				Share on Facebook (Opens in new window)\n				Facebook\n			\n				Share on X (Opens in new window)\n				X
URL:https://sungateliving.com/event/fall-neighborhood-yard-sales/
CATEGORIES:Community
ORGANIZER;CN="Sungate Neighbors Inc.":MAILTO:admin@sungateliving.com
END:VEVENT
BEGIN:VEVENT
DTSTART;TZID=America/Chicago:20230917T130000
DTEND;TZID=America/Chicago:20230917T180000
DTSTAMP:20260424T135633
CREATED:20230421T054033Z
LAST-MODIFIED:20230814T021023Z
UID:7284-1694955600-1694973600@sungateliving.com
SUMMARY:Season Closing Day
DESCRIPTION:Last day of 2023 pool season. Goodbye summer! \n\n\n\n\n\n\n\n\n\n\nShare this:\n				Share on Facebook (Opens in new window)\n				Facebook\n			\n				Share on X (Opens in new window)\n				X
URL:https://sungateliving.com/event/season-close/
LOCATION:Sungate Pool\, 5358 S 70th East Pl\, Tulsa\, 74145
END:VEVENT
END:VCALENDAR