BEGIN:VCALENDAR
VERSION:2.0
PRODID:-//Sungate Living - ECPv6.15.20//NONSGML v1.0//EN
CALSCALE:GREGORIAN
METHOD:PUBLISH
X-WR-CALNAME:Sungate Living
X-ORIGINAL-URL:https://sungateliving.com
X-WR-CALDESC:Events for Sungate Living
REFRESH-INTERVAL;VALUE=DURATION:PT1H
X-Robots-Tag:noindex
X-PUBLISHED-TTL:PT1H
BEGIN:VTIMEZONE
TZID:America/Chicago
BEGIN:DAYLIGHT
TZOFFSETFROM:-0600
TZOFFSETTO:-0500
TZNAME:CDT
DTSTART:20220313T080000
END:DAYLIGHT
BEGIN:STANDARD
TZOFFSETFROM:-0500
TZOFFSETTO:-0600
TZNAME:CST
DTSTART:20221106T070000
END:STANDARD
BEGIN:DAYLIGHT
TZOFFSETFROM:-0600
TZOFFSETTO:-0500
TZNAME:CDT
DTSTART:20230312T080000
END:DAYLIGHT
BEGIN:STANDARD
TZOFFSETFROM:-0500
TZOFFSETTO:-0600
TZNAME:CST
DTSTART:20231105T070000
END:STANDARD
BEGIN:DAYLIGHT
TZOFFSETFROM:-0600
TZOFFSETTO:-0500
TZNAME:CDT
DTSTART:20240310T080000
END:DAYLIGHT
BEGIN:STANDARD
TZOFFSETFROM:-0500
TZOFFSETTO:-0600
TZNAME:CST
DTSTART:20241103T070000
END:STANDARD
END:VTIMEZONE
BEGIN:VEVENT
DTSTART;TZID=America/Chicago:20230811T180000
DTEND;TZID=America/Chicago:20230811T213000
DTSTAMP:20260424T152329
CREATED:20230404T013346Z
LAST-MODIFIED:20230420T021842Z
UID:7191-1691776800-1691789400@sungateliving.com
SUMMARY:Luau Party (Late Night Swim)
DESCRIPTION:Enjoy a Luau themed late night swim with food\, games and live entertainment! \n\n\n\nWear your Luau attire and enter our best dressed contest! Chow down on food specials (TBD).   \n\n\n\nPlay limbo with your friends and enjoy the live entertainment. \n\n\n\n\n\n\n\n\n\n\nShare this:\n				Share on Facebook (Opens in new window)\n				Facebook\n			\n				Share on X (Opens in new window)\n				X
URL:https://sungateliving.com/event/luau-party-late-night-swim/
LOCATION:Sungate Pool\, 5358 S 70th East Pl\, Tulsa\, 74145
CATEGORIES:Pool
ORGANIZER;CN="Sungate Pool":MAILTO:admin@sungateliving.com
END:VEVENT
BEGIN:VEVENT
DTSTART;TZID=America/Chicago:20230816T100000
DTEND;TZID=America/Chicago:20230816T170000
DTSTAMP:20260424T152329
CREATED:20230814T022547Z
LAST-MODIFIED:20230814T022551Z
UID:7565-1692180000-1692205200@sungateliving.com
SUMMARY:Back-to-School Hours Start
DESCRIPTION:See the back-to-school hours for the remaining pool season.  \n\n\n\nSee the article for more details.  \n\n\n\n\n\n\n\n\n\n\nShare this:\n				Share on Facebook (Opens in new window)\n				Facebook\n			\n				Share on X (Opens in new window)\n				X
URL:https://sungateliving.com/event/back-to-school-hours-start/
LOCATION:Sungate Pool\, 5358 S 70th East Pl\, Tulsa\, 74145
END:VEVENT
BEGIN:VEVENT
DTSTART;TZID=America/Chicago:20230818T180000
DTEND;TZID=America/Chicago:20230818T200000
DTSTAMP:20260424T152329
CREATED:20230814T020518Z
LAST-MODIFIED:20230814T020522Z
UID:7559-1692381600-1692388800@sungateliving.com
SUMMARY:Friday Food Truck
DESCRIPTION:We are bringing out Linam Up Grill for the first time.  \n\n\n\n\n\n\n\n\n\n\n\n\n\n\nShare this:\n				Share on Facebook (Opens in new window)\n				Facebook\n			\n				Share on X (Opens in new window)\n				X
URL:https://sungateliving.com/event/friday-food-truck-2/
LOCATION:Sungate Pool\, 5358 S 70th East Pl\, Tulsa\, 74145
END:VEVENT
BEGIN:VEVENT
DTSTART;TZID=America/Chicago:20230825T180000
DTEND;TZID=America/Chicago:20230825T200000
DTSTAMP:20260424T152329
CREATED:20230420T022415Z
LAST-MODIFIED:20230420T022427Z
UID:7275-1692986400-1692993600@sungateliving.com
SUMMARY:Friday Food Truck
DESCRIPTION:Ruth’s Chicken will be at Sungate! \n\n\n\n\n\n\n\n\n\n\n\n\n\n\nShare this:\n				Share on Facebook (Opens in new window)\n				Facebook\n			\n				Share on X (Opens in new window)\n				X
URL:https://sungateliving.com/event/friday-food-truck-5/
LOCATION:Sungate Pool\, 5358 S 70th East Pl\, Tulsa\, 74145
END:VEVENT
BEGIN:VEVENT
DTSTART;TZID=America/Chicago:20230825T200000
DTEND;TZID=America/Chicago:20230825T230000
DTSTAMP:20260424T152329
CREATED:20230814T020751Z
LAST-MODIFIED:20230814T020833Z
UID:7562-1692993600-1693004400@sungateliving.com
SUMMARY:Barbie Pool Party
DESCRIPTION:We are bringing back adult parties! Barbie-land is coming to Sungate for one night only\, you won’t want to miss this! Best dressed contest\, food\, drinks\, raffles and prizes. Come on Barbie\, let’s pool party! \n\n\n\nTickets on Sale at sungateliving.com/barbie-tickets. \n\n\n\n\n\n\n\n\n\n\nShare this:\n				Share on Facebook (Opens in new window)\n				Facebook\n			\n				Share on X (Opens in new window)\n				X
URL:https://sungateliving.com/event/barbie-pool-party/
LOCATION:Sungate Pool\, 5358 S 70th East Pl\, Tulsa\, 74145
END:VEVENT
END:VCALENDAR