BEGIN:VCALENDAR
VERSION:2.0
PRODID:-//Sungate Living - ECPv6.15.20//NONSGML v1.0//EN
CALSCALE:GREGORIAN
METHOD:PUBLISH
X-WR-CALNAME:Sungate Living
X-ORIGINAL-URL:https://sungateliving.com
X-WR-CALDESC:Events for Sungate Living
REFRESH-INTERVAL;VALUE=DURATION:PT1H
X-Robots-Tag:noindex
X-PUBLISHED-TTL:PT1H
BEGIN:VTIMEZONE
TZID:America/Chicago
BEGIN:DAYLIGHT
TZOFFSETFROM:-0600
TZOFFSETTO:-0500
TZNAME:CDT
DTSTART:20220313T080000
END:DAYLIGHT
BEGIN:STANDARD
TZOFFSETFROM:-0500
TZOFFSETTO:-0600
TZNAME:CST
DTSTART:20221106T070000
END:STANDARD
BEGIN:DAYLIGHT
TZOFFSETFROM:-0600
TZOFFSETTO:-0500
TZNAME:CDT
DTSTART:20230312T080000
END:DAYLIGHT
BEGIN:STANDARD
TZOFFSETFROM:-0500
TZOFFSETTO:-0600
TZNAME:CST
DTSTART:20231105T070000
END:STANDARD
BEGIN:DAYLIGHT
TZOFFSETFROM:-0600
TZOFFSETTO:-0500
TZNAME:CDT
DTSTART:20240310T080000
END:DAYLIGHT
BEGIN:STANDARD
TZOFFSETFROM:-0500
TZOFFSETTO:-0600
TZNAME:CST
DTSTART:20241103T070000
END:STANDARD
END:VTIMEZONE
BEGIN:VEVENT
DTSTART;TZID=America/Chicago:20230616T180000
DTEND;TZID=America/Chicago:20230616T200000
DTSTAMP:20260424T183014
CREATED:20230420T020919Z
LAST-MODIFIED:20230420T020923Z
UID:7256-1686938400-1686945600@sungateliving.com
SUMMARY:Friday Food Truck
DESCRIPTION:Marshall’s Family Food Truck will be at Sungate Pool! \n\n\n\n\n\n\n\n\n\n\n\n\n\n\nShare this:\n				Share on Facebook (Opens in new window)\n				Facebook\n			\n				Share on X (Opens in new window)\n				X
URL:https://sungateliving.com/event/friday-food-truck/
LOCATION:Sungate Pool\, 5358 S 70th East Pl\, Tulsa\, 74145
END:VEVENT
BEGIN:VEVENT
DTSTART;TZID=America/Chicago:20230616T180000
DTEND;TZID=America/Chicago:20230616T210000
DTSTAMP:20260424T183014
CREATED:20230421T053743Z
LAST-MODIFIED:20230421T053745Z
UID:7282-1686938400-1686949200@sungateliving.com
SUMMARY:Slide Night (Late Night Swim)
DESCRIPTION:Slide Night is back! \n\n\n\n\n\n\n\n\n\n\nShare this:\n				Share on Facebook (Opens in new window)\n				Facebook\n			\n				Share on X (Opens in new window)\n				X
URL:https://sungateliving.com/event/slide-night-late-night-swim/
LOCATION:Sungate Pool\, 5358 S 70th East Pl\, Tulsa\, 74145
END:VEVENT
BEGIN:VEVENT
DTSTART;TZID=America/Chicago:20230618T150000
DTEND;TZID=America/Chicago:20230618T180000
DTSTAMP:20260424T183014
CREATED:20230404T011956Z
LAST-MODIFIED:20230617T225733Z
UID:7182-1687100400-1687111200@sungateliving.com
SUMMARY:Father's Day Swim - 1/2 Price Pops for Your Pops
DESCRIPTION:Special Father’s Day treat. Come spend the afternoon with us.  \n\n\n\n\n\n\n\n\n\n\nShare this:\n				Share on Facebook (Opens in new window)\n				Facebook\n			\n				Share on X (Opens in new window)\n				X
URL:https://sungateliving.com/event/fathers-day-swim/
LOCATION:Sungate Pool\, 5358 S 70th East Pl\, Tulsa\, 74145
CATEGORIES:Pool
ORGANIZER;CN="Sungate Pool":MAILTO:admin@sungateliving.com
END:VEVENT
BEGIN:VEVENT
DTSTART;TZID=America/Chicago:20230626T183000
DTEND;TZID=America/Chicago:20230626T200000
DTSTAMP:20260424T183014
CREATED:20230404T011656Z
LAST-MODIFIED:20230404T011739Z
UID:7179-1687804200-1687809600@sungateliving.com
SUMMARY:SNI Board Meeting
DESCRIPTION:Monthly homeowner’s association meeting is held the 4th Monday of every month. \n\n\n\n\n\n\n\n\n\n\nShare this:\n				Share on Facebook (Opens in new window)\n				Facebook\n			\n				Share on X (Opens in new window)\n				X
URL:https://sungateliving.com/event/sni-board-meeting-3/
LOCATION:Sungate Pool\, 5358 S 70th East Pl\, Tulsa\, 74145
CATEGORIES:HOA
ORGANIZER;CN="Sungate Neighbors Inc.":MAILTO:admin@sungateliving.com
END:VEVENT
BEGIN:VEVENT
DTSTART;TZID=America/Chicago:20230630T180000
DTEND;TZID=America/Chicago:20230630T200000
DTSTAMP:20260424T183014
CREATED:20230404T010842Z
LAST-MODIFIED:20230522T224508Z
UID:7164-1688148000-1688155200@sungateliving.com
SUMMARY:Sungate Cornhole Tournament
DESCRIPTION:Open to Sungate pool members and all Sungate residents.  \n\n\n\nTeams of two\, ages 12 and older\, will play for prizes in this double elimination tournament. Boards will be provided. \n\n\n\nFirst round begins at 2 p.m. Games run about 15 minutes. The time of the Championship Game will be determined based on number of teams and elimination rounds. \n\n\n\nPrizes for 1st Place and 2nd Place finishers as well as a Best Team Name award. Free to play. Come throw some with us. \n\n\n\nSign up at sungateliving.com/cornhole.  \n\n\n\n\n\n\n\n\n\n\nShare this:\n				Share on Facebook (Opens in new window)\n				Facebook\n			\n				Share on X (Opens in new window)\n				X
URL:https://sungateliving.com/event/memorial-day-cornhole-tournament/
LOCATION:Sungate Pool North Lawn\, 5358 S 70th East Pl
CATEGORIES:Community,Pool
ORGANIZER;CN="Sungate Pool":MAILTO:admin@sungateliving.com
END:VEVENT
BEGIN:VEVENT
DTSTART;TZID=America/Chicago:20230630T180000
DTEND;TZID=America/Chicago:20230630T200000
DTSTAMP:20260424T183014
CREATED:20230420T021209Z
LAST-MODIFIED:20230522T224333Z
UID:7260-1688148000-1688155200@sungateliving.com
SUMMARY:Friday Food Truck
DESCRIPTION:Brite Ice & Carnival Treats will be at Sungate! \n\n\n\n\n\n\n\n\n\n\n\n\n\n\nShare this:\n				Share on Facebook (Opens in new window)\n				Facebook\n			\n				Share on X (Opens in new window)\n				X
URL:https://sungateliving.com/event/memorial-day-food-truck/
LOCATION:Sungate Pool\, 5358 S 70th East Pl\, Tulsa\, 74145
END:VEVENT
END:VCALENDAR