BEGIN:VCALENDAR
VERSION:2.0
PRODID:-//Sungate Living - ECPv6.15.20//NONSGML v1.0//EN
CALSCALE:GREGORIAN
METHOD:PUBLISH
X-WR-CALNAME:Sungate Living
X-ORIGINAL-URL:https://sungateliving.com
X-WR-CALDESC:Events for Sungate Living
REFRESH-INTERVAL;VALUE=DURATION:PT1H
X-Robots-Tag:noindex
X-PUBLISHED-TTL:PT1H
BEGIN:VTIMEZONE
TZID:America/Chicago
BEGIN:DAYLIGHT
TZOFFSETFROM:-0600
TZOFFSETTO:-0500
TZNAME:CDT
DTSTART:20220313T080000
END:DAYLIGHT
BEGIN:STANDARD
TZOFFSETFROM:-0500
TZOFFSETTO:-0600
TZNAME:CST
DTSTART:20221106T070000
END:STANDARD
BEGIN:DAYLIGHT
TZOFFSETFROM:-0600
TZOFFSETTO:-0500
TZNAME:CDT
DTSTART:20230312T080000
END:DAYLIGHT
BEGIN:STANDARD
TZOFFSETFROM:-0500
TZOFFSETTO:-0600
TZNAME:CST
DTSTART:20231105T070000
END:STANDARD
BEGIN:DAYLIGHT
TZOFFSETFROM:-0600
TZOFFSETTO:-0500
TZNAME:CDT
DTSTART:20240310T080000
END:DAYLIGHT
BEGIN:STANDARD
TZOFFSETFROM:-0500
TZOFFSETTO:-0600
TZNAME:CST
DTSTART:20241103T070000
END:STANDARD
BEGIN:DAYLIGHT
TZOFFSETFROM:-0600
TZOFFSETTO:-0500
TZNAME:CDT
DTSTART:20250309T080000
END:DAYLIGHT
BEGIN:STANDARD
TZOFFSETFROM:-0500
TZOFFSETTO:-0600
TZNAME:CST
DTSTART:20251102T070000
END:STANDARD
END:VTIMEZONE
BEGIN:VEVENT
DTSTART;TZID=America/Chicago:20240519T150000
DTEND;TZID=America/Chicago:20240519T170000
DTSTAMP:20260423T014902
CREATED:20240314T024530Z
LAST-MODIFIED:20240518T162157Z
UID:7751-1716130800-1716138000@sungateliving.com
SUMMARY:Pool Open House
DESCRIPTION:Learn about pool memberships\, swim lessons and pool parties. Staff will be on hand to answer questions. \n\n\n\nNo lifeguards on duty. Baby pool will be available for wading. \n\n\n\n\n\n\n\n\n\n\nShare this:\n				Share on Facebook (Opens in new window)\n				Facebook\n			\n				Share on X (Opens in new window)\n				X
URL:https://sungateliving.com/event/pool-open-house-2/
LOCATION:Sungate Pool\, 5358 S 70th East Pl\, Tulsa\, 74145
ORGANIZER;CN="Sungate Pool":MAILTO:admin@sungateliving.com
END:VEVENT
BEGIN:VEVENT
DTSTART;TZID=America/Chicago:20240422T183000
DTEND;TZID=America/Chicago:20240422T193000
DTSTAMP:20260423T014902
CREATED:20240314T024256Z
LAST-MODIFIED:20240314T024258Z
UID:7749-1713810600-1713814200@sungateliving.com
SUMMARY:SNI Board Meeting
DESCRIPTION:Share this:\n				Share on Facebook (Opens in new window)\n				Facebook\n			\n				Share on X (Opens in new window)\n				X
URL:https://sungateliving.com/event/sni-board-meeting-5/
LOCATION:Sungate Pool\, 5358 S 70th East Pl\, Tulsa\, 74145
ORGANIZER;CN="Sungate Neighbors Inc.":MAILTO:admin@sungateliving.com
END:VEVENT
BEGIN:VEVENT
DTSTART;TZID=America/Chicago:20240412T080000
DTEND;TZID=America/Chicago:20240414T170000
DTSTAMP:20260423T014902
CREATED:20240314T023909Z
LAST-MODIFIED:20240314T023912Z
UID:7743-1712908800-1713114000@sungateliving.com
SUMMARY:Spring Neighborhood Yard Sale
DESCRIPTION:Share this:\n				Share on Facebook (Opens in new window)\n				Facebook\n			\n				Share on X (Opens in new window)\n				X
URL:https://sungateliving.com/event/spring-neighborhood-yard-sale-2/
ORGANIZER;CN="Sungate Neighbors Inc.":MAILTO:admin@sungateliving.com
END:VEVENT
BEGIN:VEVENT
DTSTART;TZID=America/Chicago:20240325T183000
DTEND;TZID=America/Chicago:20240325T193000
DTSTAMP:20260423T014902
CREATED:20240314T024130Z
LAST-MODIFIED:20240314T024133Z
UID:7747-1711391400-1711395000@sungateliving.com
SUMMARY:SNI Board Meeting
DESCRIPTION:Share this:\n				Share on Facebook (Opens in new window)\n				Facebook\n			\n				Share on X (Opens in new window)\n				X
URL:https://sungateliving.com/event/sni-board-meeting-4/
LOCATION:Sungate Pool\, 5358 S 70th East Pl\, Tulsa\, 74145
ORGANIZER;CN="Sungate Neighbors Inc.":MAILTO:admin@sungateliving.com
END:VEVENT
BEGIN:VEVENT
DTSTART;TZID=America/Chicago:20231114T183000
DTEND;TZID=America/Chicago:20231114T193000
DTSTAMP:20260423T014902
CREATED:20230905T025512Z
LAST-MODIFIED:20231031T184003Z
UID:7592-1699986600-1699990200@sungateliving.com
SUMMARY:Annual Meeting of the Shareholders
DESCRIPTION:Please the save the date and plan to join us for the Sungate Neighbors Inc. Annual Membership Meeting. \n\n\n\nTuesday\, November 14 at 6:30 pm at Parkview Baptist Church at 58th & Sheridan.  \n\n\n\n\n\n\n\n\n\n\nShare this:\n				Share on Facebook (Opens in new window)\n				Facebook\n			\n				Share on X (Opens in new window)\n				X
URL:https://sungateliving.com/event/annual-meeting/
LOCATION:Parkview Baptist Church\, 5805 S Sheridan Road\, Tulsa\, Oklahoma\, 74145\, United States
ORGANIZER;CN="Sungate Neighbors Inc.":MAILTO:admin@sungateliving.com
END:VEVENT
BEGIN:VEVENT
DTSTART;TZID=America/Chicago:20231015T140000
DTEND;TZID=America/Chicago:20231015T170000
DTSTAMP:20260423T014902
CREATED:20230905T031013Z
LAST-MODIFIED:20231009T044112Z
UID:7594-1697378400-1697389200@sungateliving.com
SUMMARY:Fall Fest
DESCRIPTION:The Fall Fest is back but this time we are changing things up.  \n\n\n\nEnjoy the second day of the pumpkin plunge\, plus inflatables\, $1 hot dogs\, and discount concession items. Plus a visit from the Tulsa Police Department and residents will be entered into a drawing to win 2024 HOA dues.  \n\n\n\n\n\n\n\n\n\n\nShare this:\n				Share on Facebook (Opens in new window)\n				Facebook\n			\n				Share on X (Opens in new window)\n				X
URL:https://sungateliving.com/event/fall-block-party/
LOCATION:Sungate Pool\, 5358 S 70th East Pl\, Tulsa\, 74145
ORGANIZER;CN="Sungate Neighbors Inc.":MAILTO:admin@sungateliving.com
END:VEVENT
BEGIN:VEVENT
DTSTART;TZID=America/Chicago:20231014T120000
DTEND;TZID=America/Chicago:20231015T120000
DTSTAMP:20260423T014902
CREATED:20230905T025310Z
LAST-MODIFIED:20230905T025315Z
UID:7589-1697284800-1697371200@sungateliving.com
SUMMARY:Pumpkin Plunge
DESCRIPTION:Bring the family out for an unforgettable pumpkin patch… the floating kind! \n\n\n\n Buy some pumpkins.   Come and go\, and hang out with us.   Wade in the baby pool or take a plunge in the big pool.  \n\n\n\n\n\n\n\n\n\n\nShare this:\n				Share on Facebook (Opens in new window)\n				Facebook\n			\n				Share on X (Opens in new window)\n				X
URL:https://sungateliving.com/event/pumpkin-plunge/
LOCATION:Sungate Pool\, 5358 S 70th East Pl\, Tulsa\, 74145
END:VEVENT
BEGIN:VEVENT
DTSTART;TZID=America/Chicago:20230917T130000
DTEND;TZID=America/Chicago:20230917T180000
DTSTAMP:20260423T014902
CREATED:20230421T054033Z
LAST-MODIFIED:20230814T021023Z
UID:7284-1694955600-1694973600@sungateliving.com
SUMMARY:Season Closing Day
DESCRIPTION:Last day of 2023 pool season. Goodbye summer! \n\n\n\n\n\n\n\n\n\n\nShare this:\n				Share on Facebook (Opens in new window)\n				Facebook\n			\n				Share on X (Opens in new window)\n				X
URL:https://sungateliving.com/event/season-close/
LOCATION:Sungate Pool\, 5358 S 70th East Pl\, Tulsa\, 74145
END:VEVENT
BEGIN:VEVENT
DTSTART;TZID=America/Chicago:20230915T000000
DTEND;TZID=America/Chicago:20230917T235959
DTSTAMP:20260423T014902
CREATED:20230404T012940Z
LAST-MODIFIED:20230404T012943Z
UID:7188-1694736000-1694995199@sungateliving.com
SUMMARY:Fall Neighborhood Yard Sales
DESCRIPTION:Neighborhood Yard Sales are held twice a year\, in the spring and fall seasons. SNI put up banners at the neighborhood entrances and post digital ads with Tulsa World and on Facebook. Take advantage of the extra people in the area and schedule your yard sale at the same time. \n\n\n\nFree Dumpsters are provided as a neighborhood service by the City of Tulsa. We schedule these on the Monday and Tuesday following the Yard Sale weekends. \n\n\n\n\n\n\n\n\n\n\nShare this:\n				Share on Facebook (Opens in new window)\n				Facebook\n			\n				Share on X (Opens in new window)\n				X
URL:https://sungateliving.com/event/fall-neighborhood-yard-sales/
CATEGORIES:Community
ORGANIZER;CN="Sungate Neighbors Inc.":MAILTO:admin@sungateliving.com
END:VEVENT
BEGIN:VEVENT
DTSTART;TZID=America/Chicago:20230908T190000
DTEND;TZID=America/Chicago:20230908T220000
DTSTAMP:20260423T014902
CREATED:20230905T025048Z
LAST-MODIFIED:20230905T025052Z
UID:7588-1694199600-1694210400@sungateliving.com
SUMMARY:Friday Night Float
DESCRIPTION:Join us for a tailgate party with bratwurst\, beverages\, and a ballgame. Free admission. Purchase tickets for brats and beverages or bring your own.  \n\n\n\n\n\n\n\n\n\n\nShare this:\n				Share on Facebook (Opens in new window)\n				Facebook\n			\n				Share on X (Opens in new window)\n				X
URL:https://sungateliving.com/event/friday-night-float/
LOCATION:Sungate Pool\, 5358 S 70th East Pl\, Tulsa\, 74145
END:VEVENT
BEGIN:VEVENT
DTSTART;TZID=America/Chicago:20230825T200000
DTEND;TZID=America/Chicago:20230825T230000
DTSTAMP:20260423T014902
CREATED:20230814T020751Z
LAST-MODIFIED:20230814T020833Z
UID:7562-1692993600-1693004400@sungateliving.com
SUMMARY:Barbie Pool Party
DESCRIPTION:We are bringing back adult parties! Barbie-land is coming to Sungate for one night only\, you won’t want to miss this! Best dressed contest\, food\, drinks\, raffles and prizes. Come on Barbie\, let’s pool party! \n\n\n\nTickets on Sale at sungateliving.com/barbie-tickets. \n\n\n\n\n\n\n\n\n\n\nShare this:\n				Share on Facebook (Opens in new window)\n				Facebook\n			\n				Share on X (Opens in new window)\n				X
URL:https://sungateliving.com/event/barbie-pool-party/
LOCATION:Sungate Pool\, 5358 S 70th East Pl\, Tulsa\, 74145
END:VEVENT
BEGIN:VEVENT
DTSTART;TZID=America/Chicago:20230825T180000
DTEND;TZID=America/Chicago:20230825T200000
DTSTAMP:20260423T014902
CREATED:20230420T022415Z
LAST-MODIFIED:20230420T022427Z
UID:7275-1692986400-1692993600@sungateliving.com
SUMMARY:Friday Food Truck
DESCRIPTION:Ruth’s Chicken will be at Sungate! \n\n\n\n\n\n\n\n\n\n\n\n\n\n\nShare this:\n				Share on Facebook (Opens in new window)\n				Facebook\n			\n				Share on X (Opens in new window)\n				X
URL:https://sungateliving.com/event/friday-food-truck-5/
LOCATION:Sungate Pool\, 5358 S 70th East Pl\, Tulsa\, 74145
END:VEVENT
BEGIN:VEVENT
DTSTART;TZID=America/Chicago:20230818T180000
DTEND;TZID=America/Chicago:20230818T200000
DTSTAMP:20260423T014902
CREATED:20230814T020518Z
LAST-MODIFIED:20230814T020522Z
UID:7559-1692381600-1692388800@sungateliving.com
SUMMARY:Friday Food Truck
DESCRIPTION:We are bringing out Linam Up Grill for the first time.  \n\n\n\n\n\n\n\n\n\n\n\n\n\n\nShare this:\n				Share on Facebook (Opens in new window)\n				Facebook\n			\n				Share on X (Opens in new window)\n				X
URL:https://sungateliving.com/event/friday-food-truck-2/
LOCATION:Sungate Pool\, 5358 S 70th East Pl\, Tulsa\, 74145
END:VEVENT
BEGIN:VEVENT
DTSTART;TZID=America/Chicago:20230816T100000
DTEND;TZID=America/Chicago:20230816T170000
DTSTAMP:20260423T014902
CREATED:20230814T022547Z
LAST-MODIFIED:20230814T022551Z
UID:7565-1692180000-1692205200@sungateliving.com
SUMMARY:Back-to-School Hours Start
DESCRIPTION:See the back-to-school hours for the remaining pool season.  \n\n\n\nSee the article for more details.  \n\n\n\n\n\n\n\n\n\n\nShare this:\n				Share on Facebook (Opens in new window)\n				Facebook\n			\n				Share on X (Opens in new window)\n				X
URL:https://sungateliving.com/event/back-to-school-hours-start/
LOCATION:Sungate Pool\, 5358 S 70th East Pl\, Tulsa\, 74145
END:VEVENT
BEGIN:VEVENT
DTSTART;TZID=America/Chicago:20230811T180000
DTEND;TZID=America/Chicago:20230811T213000
DTSTAMP:20260423T014902
CREATED:20230404T013346Z
LAST-MODIFIED:20230420T021842Z
UID:7191-1691776800-1691789400@sungateliving.com
SUMMARY:Luau Party (Late Night Swim)
DESCRIPTION:Enjoy a Luau themed late night swim with food\, games and live entertainment! \n\n\n\nWear your Luau attire and enter our best dressed contest! Chow down on food specials (TBD).   \n\n\n\nPlay limbo with your friends and enjoy the live entertainment. \n\n\n\n\n\n\n\n\n\n\nShare this:\n				Share on Facebook (Opens in new window)\n				Facebook\n			\n				Share on X (Opens in new window)\n				X
URL:https://sungateliving.com/event/luau-party-late-night-swim/
LOCATION:Sungate Pool\, 5358 S 70th East Pl\, Tulsa\, 74145
CATEGORIES:Pool
ORGANIZER;CN="Sungate Pool":MAILTO:admin@sungateliving.com
END:VEVENT
BEGIN:VEVENT
DTSTART;TZID=America/Chicago:20230728T180000
DTEND;TZID=America/Chicago:20230728T200000
DTSTAMP:20260423T014902
CREATED:20230420T022100Z
LAST-MODIFIED:20230420T022101Z
UID:7272-1690567200-1690574400@sungateliving.com
SUMMARY:Friday Food Truck
DESCRIPTION:Hot Mess BBQ Food Truck & Catering will be at Sungate! \n\n\n\n\n\n\n\n\n\n\n\n\n\n\nShare this:\n				Share on Facebook (Opens in new window)\n				Facebook\n			\n				Share on X (Opens in new window)\n				X
URL:https://sungateliving.com/event/friday-food-truck-4/
LOCATION:Sungate Pool\, 5358 S 70th East Pl\, Tulsa\, 74145
END:VEVENT
BEGIN:VEVENT
DTSTART;TZID=America/Chicago:20230714T180000
DTEND;TZID=America/Chicago:20230714T200000
DTSTAMP:20260423T014902
CREATED:20230420T021748Z
LAST-MODIFIED:20230420T021810Z
UID:7267-1689357600-1689364800@sungateliving.com
SUMMARY:Friday Food Truck
DESCRIPTION:V’Fresco will be at Sungate! \n\n\n\n\n\n\n\n\n\n\n\n\n\n\nShare this:\n				Share on Facebook (Opens in new window)\n				Facebook\n			\n				Share on X (Opens in new window)\n				X
URL:https://sungateliving.com/event/friday-food-truck-3/
LOCATION:Sungate Pool\, 5358 S 70th East Pl\, Tulsa\, 74145
END:VEVENT
BEGIN:VEVENT
DTSTART;TZID=America/Chicago:20230704T100000
DTEND;TZID=America/Chicago:20230704T170000
DTSTAMP:20260423T014902
CREATED:20230404T012225Z
LAST-MODIFIED:20230404T012639Z
UID:7184-1688464800-1688490000@sungateliving.com
SUMMARY:Fourth of July Celebration
DESCRIPTION:Join us for the Sungate Annual Fourth of July Celebration. The bike and wagon decorating contest begins at 9 a.m. in Sungate Park\, followed by a short neighborhood parade.  \n\n\n\nPool opens at 10 a.m. with swimming races\, water games\, food specials and other fun events throughout the day. Pool closes at 5 p.m. so our staff can enjoy the evening with their families.  \n\n\n\n\n\n\n\n\n\n\nShare this:\n				Share on Facebook (Opens in new window)\n				Facebook\n			\n				Share on X (Opens in new window)\n				X
URL:https://sungateliving.com/event/fourth-of-july-celebration/
LOCATION:Sungate Pool\, 5358 S 70th East Pl\, Tulsa\, 74145
CATEGORIES:Pool
ORGANIZER;CN="Sungate Pool":MAILTO:admin@sungateliving.com
END:VEVENT
BEGIN:VEVENT
DTSTART;TZID=America/Chicago:20230630T180000
DTEND;TZID=America/Chicago:20230630T200000
DTSTAMP:20260423T014902
CREATED:20230420T021209Z
LAST-MODIFIED:20230522T224333Z
UID:7260-1688148000-1688155200@sungateliving.com
SUMMARY:Friday Food Truck
DESCRIPTION:Brite Ice & Carnival Treats will be at Sungate! \n\n\n\n\n\n\n\n\n\n\n\n\n\n\nShare this:\n				Share on Facebook (Opens in new window)\n				Facebook\n			\n				Share on X (Opens in new window)\n				X
URL:https://sungateliving.com/event/memorial-day-food-truck/
LOCATION:Sungate Pool\, 5358 S 70th East Pl\, Tulsa\, 74145
END:VEVENT
BEGIN:VEVENT
DTSTART;TZID=America/Chicago:20230630T180000
DTEND;TZID=America/Chicago:20230630T200000
DTSTAMP:20260423T014902
CREATED:20230404T010842Z
LAST-MODIFIED:20230522T224508Z
UID:7164-1688148000-1688155200@sungateliving.com
SUMMARY:Sungate Cornhole Tournament
DESCRIPTION:Open to Sungate pool members and all Sungate residents.  \n\n\n\nTeams of two\, ages 12 and older\, will play for prizes in this double elimination tournament. Boards will be provided. \n\n\n\nFirst round begins at 2 p.m. Games run about 15 minutes. The time of the Championship Game will be determined based on number of teams and elimination rounds. \n\n\n\nPrizes for 1st Place and 2nd Place finishers as well as a Best Team Name award. Free to play. Come throw some with us. \n\n\n\nSign up at sungateliving.com/cornhole.  \n\n\n\n\n\n\n\n\n\n\nShare this:\n				Share on Facebook (Opens in new window)\n				Facebook\n			\n				Share on X (Opens in new window)\n				X
URL:https://sungateliving.com/event/memorial-day-cornhole-tournament/
LOCATION:Sungate Pool North Lawn\, 5358 S 70th East Pl
CATEGORIES:Community,Pool
ORGANIZER;CN="Sungate Pool":MAILTO:admin@sungateliving.com
END:VEVENT
BEGIN:VEVENT
DTSTART;TZID=America/Chicago:20230626T183000
DTEND;TZID=America/Chicago:20230626T200000
DTSTAMP:20260423T014902
CREATED:20230404T011656Z
LAST-MODIFIED:20230404T011739Z
UID:7179-1687804200-1687809600@sungateliving.com
SUMMARY:SNI Board Meeting
DESCRIPTION:Monthly homeowner’s association meeting is held the 4th Monday of every month. \n\n\n\n\n\n\n\n\n\n\nShare this:\n				Share on Facebook (Opens in new window)\n				Facebook\n			\n				Share on X (Opens in new window)\n				X
URL:https://sungateliving.com/event/sni-board-meeting-3/
LOCATION:Sungate Pool\, 5358 S 70th East Pl\, Tulsa\, 74145
CATEGORIES:HOA
ORGANIZER;CN="Sungate Neighbors Inc.":MAILTO:admin@sungateliving.com
END:VEVENT
BEGIN:VEVENT
DTSTART;TZID=America/Chicago:20230618T150000
DTEND;TZID=America/Chicago:20230618T180000
DTSTAMP:20260423T014902
CREATED:20230404T011956Z
LAST-MODIFIED:20230617T225733Z
UID:7182-1687100400-1687111200@sungateliving.com
SUMMARY:Father's Day Swim - 1/2 Price Pops for Your Pops
DESCRIPTION:Special Father’s Day treat. Come spend the afternoon with us.  \n\n\n\n\n\n\n\n\n\n\nShare this:\n				Share on Facebook (Opens in new window)\n				Facebook\n			\n				Share on X (Opens in new window)\n				X
URL:https://sungateliving.com/event/fathers-day-swim/
LOCATION:Sungate Pool\, 5358 S 70th East Pl\, Tulsa\, 74145
CATEGORIES:Pool
ORGANIZER;CN="Sungate Pool":MAILTO:admin@sungateliving.com
END:VEVENT
BEGIN:VEVENT
DTSTART;TZID=America/Chicago:20230616T180000
DTEND;TZID=America/Chicago:20230616T210000
DTSTAMP:20260423T014902
CREATED:20230421T053743Z
LAST-MODIFIED:20230421T053745Z
UID:7282-1686938400-1686949200@sungateliving.com
SUMMARY:Slide Night (Late Night Swim)
DESCRIPTION:Slide Night is back! \n\n\n\n\n\n\n\n\n\n\nShare this:\n				Share on Facebook (Opens in new window)\n				Facebook\n			\n				Share on X (Opens in new window)\n				X
URL:https://sungateliving.com/event/slide-night-late-night-swim/
LOCATION:Sungate Pool\, 5358 S 70th East Pl\, Tulsa\, 74145
END:VEVENT
BEGIN:VEVENT
DTSTART;TZID=America/Chicago:20230616T180000
DTEND;TZID=America/Chicago:20230616T200000
DTSTAMP:20260423T014902
CREATED:20230420T020919Z
LAST-MODIFIED:20230420T020923Z
UID:7256-1686938400-1686945600@sungateliving.com
SUMMARY:Friday Food Truck
DESCRIPTION:Marshall’s Family Food Truck will be at Sungate Pool! \n\n\n\n\n\n\n\n\n\n\n\n\n\n\nShare this:\n				Share on Facebook (Opens in new window)\n				Facebook\n			\n				Share on X (Opens in new window)\n				X
URL:https://sungateliving.com/event/friday-food-truck/
LOCATION:Sungate Pool\, 5358 S 70th East Pl\, Tulsa\, 74145
END:VEVENT
BEGIN:VEVENT
DTSTART;TZID=America/Chicago:20230531T100000
DTEND;TZID=America/Chicago:20230531T200000
DTSTAMP:20260423T014902
CREATED:20230329T142359Z
LAST-MODIFIED:20230526T142432Z
UID:7131-1685527200-1685563200@sungateliving.com
SUMMARY:Projected Opening Day
DESCRIPTION:Sungate Pool opens for the 2023 season.  \n\n\n\nIf you haven’t join yet\, you can still grab a membership\, visit sungateliving.com/join to sign up.  \n\n\n\n\n\n\n\n\n\n\nShare this:\n				Share on Facebook (Opens in new window)\n				Facebook\n			\n				Share on X (Opens in new window)\n				X
URL:https://sungateliving.com/event/open-day/
LOCATION:Sungate Pool\, 5358 S 70th East Pl\, Tulsa\, 74145
CATEGORIES:Pool
ORGANIZER;CN="Sungate Neighbors Inc.":MAILTO:admin@sungateliving.com
END:VEVENT
BEGIN:VEVENT
DTSTART;TZID=America/Chicago:20230522T183000
DTEND;TZID=America/Chicago:20230522T200000
DTSTAMP:20260423T014902
CREATED:20230404T011542Z
LAST-MODIFIED:20230404T011544Z
UID:7176-1684780200-1684785600@sungateliving.com
SUMMARY:SNI Board Meeting
DESCRIPTION:Monthly homeowner’s association meeting is held the 4th Monday of every month. \n\n\n\n\n\n\n\n\n\n\nShare this:\n				Share on Facebook (Opens in new window)\n				Facebook\n			\n				Share on X (Opens in new window)\n				X
URL:https://sungateliving.com/event/sni-board-meeting-2/
LOCATION:Sungate Pool\, 5358 S 70th East Pl\, Tulsa\, 74145
CATEGORIES:HOA
ORGANIZER;CN="Sungate Neighbors Inc.":MAILTO:admin@sungateliving.com
END:VEVENT
BEGIN:VEVENT
DTSTART;TZID=America/Chicago:20230521T150000
DTEND;TZID=America/Chicago:20230521T170000
DTSTAMP:20260423T014902
CREATED:20230329T141836Z
LAST-MODIFIED:20230421T053314Z
UID:7129-1684681200-1684688400@sungateliving.com
SUMMARY:Pool Open House
DESCRIPTION:Meet some of our awesome pool staff!  Plus learn about pool memberships\, swim lessons and party rentals.  \n\n\n\n\n\n\n\n\n\n\nShare this:\n				Share on Facebook (Opens in new window)\n				Facebook\n			\n				Share on X (Opens in new window)\n				X
URL:https://sungateliving.com/event/pool-open-house/
LOCATION:Sungate Pool\, 5358 S 70th East Pl\, Tulsa\, 74145
CATEGORIES:Pool
ORGANIZER;CN="Sungate Neighbors Inc.":MAILTO:admin@sungateliving.com
END:VEVENT
BEGIN:VEVENT
DTSTART;TZID=America/Chicago:20230424T183000
DTEND;TZID=America/Chicago:20230424T200000
DTSTAMP:20260423T014902
CREATED:20230404T011149Z
LAST-MODIFIED:20230404T011455Z
UID:7173-1682361000-1682366400@sungateliving.com
SUMMARY:SNI Board Meeting
DESCRIPTION:Monthly homeowner’s association meeting is held the 4th Monday of every month. \n\n\n\n\n\n\n\n\n\n\nShare this:\n				Share on Facebook (Opens in new window)\n				Facebook\n			\n				Share on X (Opens in new window)\n				X
URL:https://sungateliving.com/event/sni-board-meeting/
LOCATION:Sungate Pool\, 5358 S 70th East Pl\, Tulsa\, 74145
CATEGORIES:HOA
ORGANIZER;CN="Sungate Neighbors Inc.":MAILTO:admin@sungateliving.com
END:VEVENT
BEGIN:VEVENT
DTSTART;TZID=America/Chicago:20230421T000000
DTEND;TZID=America/Chicago:20230423T235959
DTSTAMP:20260423T014902
CREATED:20230329T141401Z
LAST-MODIFIED:20230404T012843Z
UID:7124-1682035200-1682294399@sungateliving.com
SUMMARY:Spring Neighborhood Yard Sale
DESCRIPTION:Neighborhood Yard Sales are held twice a year\, in the spring and fall seasons. SNI put up banners at the neighborhood entrances and post digital ads with Tulsa World and on Facebook. Take advantage of the extra people in the area and schedule your yard sale at the same time. \n\n\n\nFree Dumpsters are provided as a neighborhood service by the City of Tulsa. We schedule these on the Monday and Tuesday following the Yard Sale weekends. \n\n\n\n\n\n\n\n\n\n\nShare this:\n				Share on Facebook (Opens in new window)\n				Facebook\n			\n				Share on X (Opens in new window)\n				X
URL:https://sungateliving.com/event/spring-neighborhood-yard-sale/
CATEGORIES:Community
ORGANIZER;CN="Sungate Neighbors Inc.":MAILTO:admin@sungateliving.com
END:VEVENT
END:VCALENDAR