BEGIN:VCALENDAR
VERSION:2.0
PRODID:-//Sungate Living - ECPv6.15.20//NONSGML v1.0//EN
CALSCALE:GREGORIAN
METHOD:PUBLISH
X-ORIGINAL-URL:https://sungateliving.com
X-WR-CALDESC:Events for Sungate Living
REFRESH-INTERVAL;VALUE=DURATION:PT1H
X-Robots-Tag:noindex
X-PUBLISHED-TTL:PT1H
BEGIN:VTIMEZONE
TZID:America/Chicago
BEGIN:DAYLIGHT
TZOFFSETFROM:-0600
TZOFFSETTO:-0500
TZNAME:CDT
DTSTART:20250309T080000
END:DAYLIGHT
BEGIN:STANDARD
TZOFFSETFROM:-0500
TZOFFSETTO:-0600
TZNAME:CST
DTSTART:20251102T070000
END:STANDARD
BEGIN:DAYLIGHT
TZOFFSETFROM:-0600
TZOFFSETTO:-0500
TZNAME:CDT
DTSTART:20260308T080000
END:DAYLIGHT
BEGIN:STANDARD
TZOFFSETFROM:-0500
TZOFFSETTO:-0600
TZNAME:CST
DTSTART:20261101T070000
END:STANDARD
BEGIN:DAYLIGHT
TZOFFSETFROM:-0600
TZOFFSETTO:-0500
TZNAME:CDT
DTSTART:20270314T080000
END:DAYLIGHT
BEGIN:STANDARD
TZOFFSETFROM:-0500
TZOFFSETTO:-0600
TZNAME:CST
DTSTART:20271107T070000
END:STANDARD
END:VTIMEZONE
BEGIN:VEVENT
DTSTART;TZID=America/Chicago:20260704T090000
DTEND;TZID=America/Chicago:20260704T170000
DTSTAMP:20260422T171712
CREATED:20260328T024536Z
LAST-MODIFIED:20260328T040128Z
UID:8330-1783155600-1783184400@sungateliving.com
SUMMARY:Fourth of July Celebration
DESCRIPTION:Join us for the Sungate Annual Fourth of July Celebration. The bike and wagon decorating contest begins at 9 a.m. in Sungate Park\, followed by a short neighborhood parade. \n\n\n\nPool opens at 10 a.m. with swimming races\, water games\, food specials and other fun events throughout the day. Pool closes at 5 p.m. so our staff can enjoy the evening with their families. \n\n\n\n\n\n\n\n\n\n\nShare this:\n				Share on Facebook (Opens in new window)\n				Facebook\n			\n				Share on X (Opens in new window)\n				X
URL:https://sungateliving.com/event/fourth-of-july-celebration-4/
ORGANIZER;CN="Sungate Pool":MAILTO:admin@sungateliving.com
END:VEVENT
BEGIN:VEVENT
DTSTART;TZID=America/Chicago:20260720T183000
DTEND;TZID=America/Chicago:20260720T200000
DTSTAMP:20260422T171712
CREATED:20260328T031630Z
LAST-MODIFIED:20260328T031632Z
UID:8344-1784572200-1784577600@sungateliving.com
SUMMARY:SNI Board Meeting
DESCRIPTION:Monthly board meeting. Residents are welcome to attend. \n\n\n\n\n\n\n\n\n\n\nShare this:\n				Share on Facebook (Opens in new window)\n				Facebook\n			\n				Share on X (Opens in new window)\n				X
URL:https://sungateliving.com/event/sni-board-meeting-13/
ORGANIZER;CN="Sungate Neighbors Inc.":MAILTO:admin@sungateliving.com
END:VEVENT
BEGIN:VEVENT
DTSTART;TZID=America/Chicago:20260817T183000
DTEND;TZID=America/Chicago:20260817T200000
DTSTAMP:20260422T171712
CREATED:20260328T031707Z
LAST-MODIFIED:20260328T031709Z
UID:8346-1786991400-1786996800@sungateliving.com
SUMMARY:SNI Board Meeting
DESCRIPTION:Monthly board meeting. Residents are welcome to attend. \n\n\n\n\n\n\n\n\n\n\nShare this:\n				Share on Facebook (Opens in new window)\n				Facebook\n			\n				Share on X (Opens in new window)\n				X
URL:https://sungateliving.com/event/sni-board-meeting-14/
ORGANIZER;CN="Sungate Neighbors Inc.":MAILTO:admin@sungateliving.com
END:VEVENT
BEGIN:VEVENT
DTSTART;TZID=America/Chicago:20260907T100000
DTEND;TZID=America/Chicago:20260907T170000
DTSTAMP:20260422T171712
CREATED:20260328T040652Z
LAST-MODIFIED:20260328T040654Z
UID:8367-1788775200-1788800400@sungateliving.com
SUMMARY:Labor Day
DESCRIPTION:We are open on Labor Day. Make plans to spend the day with us. \n\n\n\n\n\n\n\n\n\n\nShare this:\n				Share on Facebook (Opens in new window)\n				Facebook\n			\n				Share on X (Opens in new window)\n				X
URL:https://sungateliving.com/event/labor-day/
ORGANIZER;CN="Sungate Pool":MAILTO:admin@sungateliving.com
END:VEVENT
BEGIN:VEVENT
DTSTART;TZID=America/Chicago:20260921T183000
DTEND;TZID=America/Chicago:20260921T200000
DTSTAMP:20260422T171712
CREATED:20260328T031754Z
LAST-MODIFIED:20260328T031756Z
UID:8348-1790015400-1790020800@sungateliving.com
SUMMARY:SNI Board Meeting
DESCRIPTION:Monthly board meeting. Residents are welcome to attend. \n\n\n\n\n\n\n\n\n\n\nShare this:\n				Share on Facebook (Opens in new window)\n				Facebook\n			\n				Share on X (Opens in new window)\n				X
URL:https://sungateliving.com/event/sni-board-meeting-15/
ORGANIZER;CN="Sungate Neighbors Inc.":MAILTO:admin@sungateliving.com
END:VEVENT
BEGIN:VEVENT
DTSTART;TZID=America/Chicago:20260925T070000
DTEND;TZID=America/Chicago:20260927T160000
DTSTAMP:20260422T171712
CREATED:20260328T023412Z
LAST-MODIFIED:20260328T040010Z
UID:8322-1790319600-1790524800@sungateliving.com
SUMMARY:Fall Yard Sales 2026
DESCRIPTION:Neighborhood Yard Sales are held twice a year\, in the spring and fall seasons. SNI will hang banners at the neighborhood entrances and post digital ads on Tulsa World and Facebook. Take advantage of the extra people in the area and schedule your yard sale at the same time. \n\n\n\n\n\n\n\n\n\n\nShare this:\n				Share on Facebook (Opens in new window)\n				Facebook\n			\n				Share on X (Opens in new window)\n				X
URL:https://sungateliving.com/event/fall-yard-sales-2026/
ORGANIZER;CN="Sungate Neighbors Inc.":MAILTO:admin@sungateliving.com
END:VEVENT
BEGIN:VEVENT
DTSTART;TZID=America/Chicago:20261019T180000
DTEND;TZID=America/Chicago:20261019T193000
DTSTAMP:20260422T171712
CREATED:20260328T032137Z
LAST-MODIFIED:20260328T035848Z
UID:8354-1792432800-1792438200@sungateliving.com
SUMMARY:Annual Meeting of the Shareholders
DESCRIPTION:Join us for the annual meeting of the stakeholders of Sungate Neighbors\, Inc and learn more about how we have been working to maintain our neighborhood and its assets. \n\n\n\nMonday\, October 19\, 2026 at 6:00 pm \n\n\n\nAt Sungate Pool \n\n\n\n\n\n\n\n\n\n\nShare this:\n				Share on Facebook (Opens in new window)\n				Facebook\n			\n				Share on X (Opens in new window)\n				X
URL:https://sungateliving.com/event/annual-meeting-of-the-shareholders-3/
ORGANIZER;CN="Sungate Neighbors Inc.":MAILTO:admin@sungateliving.com
END:VEVENT
BEGIN:VEVENT
DTSTART;TZID=America/Chicago:20261031T160000
DTEND;TZID=America/Chicago:20261031T210000
DTSTAMP:20260422T171712
CREATED:20260328T040436Z
LAST-MODIFIED:20260328T040508Z
UID:8364-1793462400-1793480400@sungateliving.com
SUMMARY:Halloween Block Party
DESCRIPTION:Sungate community is invited to the Sungate Halloween Block Party! Join us for a come and go event. \n\n\n\nInflatables\, games\, trick-or-treating and more. Check back for more details. \n\n\n\n\n\n\n\n\n\n\nShare this:\n				Share on Facebook (Opens in new window)\n				Facebook\n			\n				Share on X (Opens in new window)\n				X
URL:https://sungateliving.com/event/halloween-block-party/
ORGANIZER;CN="Sungate Neighbors Inc.":MAILTO:admin@sungateliving.com
END:VEVENT
BEGIN:VEVENT
DTSTART;TZID=America/Chicago:20261116T183000
DTEND;TZID=America/Chicago:20261116T200000
DTSTAMP:20260422T171712
CREATED:20260328T031927Z
LAST-MODIFIED:20260328T031929Z
UID:8350-1794853800-1794859200@sungateliving.com
SUMMARY:SNI Board Meeting
DESCRIPTION:Monthly board meeting. Residents are welcome to attend. \n\n\n\n\n\n\n\n\n\n\nShare this:\n				Share on Facebook (Opens in new window)\n				Facebook\n			\n				Share on X (Opens in new window)\n				X
URL:https://sungateliving.com/event/sni-board-meeting-16/
ORGANIZER;CN="Sungate Neighbors Inc.":MAILTO:admin@sungateliving.com
END:VEVENT
END:VCALENDAR