BEGIN:VCALENDAR
VERSION:2.0
PRODID:-//Sungate Living - ECPv6.15.20//NONSGML v1.0//EN
CALSCALE:GREGORIAN
METHOD:PUBLISH
X-WR-CALNAME:Sungate Living
X-ORIGINAL-URL:https://sungateliving.com
X-WR-CALDESC:Events for Sungate Living
REFRESH-INTERVAL;VALUE=DURATION:PT1H
X-Robots-Tag:noindex
X-PUBLISHED-TTL:PT1H
BEGIN:VTIMEZONE
TZID:America/Chicago
BEGIN:DAYLIGHT
TZOFFSETFROM:-0600
TZOFFSETTO:-0500
TZNAME:CDT
DTSTART:20240310T080000
END:DAYLIGHT
BEGIN:STANDARD
TZOFFSETFROM:-0500
TZOFFSETTO:-0600
TZNAME:CST
DTSTART:20241103T070000
END:STANDARD
BEGIN:DAYLIGHT
TZOFFSETFROM:-0600
TZOFFSETTO:-0500
TZNAME:CDT
DTSTART:20250309T080000
END:DAYLIGHT
BEGIN:STANDARD
TZOFFSETFROM:-0500
TZOFFSETTO:-0600
TZNAME:CST
DTSTART:20251102T070000
END:STANDARD
BEGIN:DAYLIGHT
TZOFFSETFROM:-0600
TZOFFSETTO:-0500
TZNAME:CDT
DTSTART:20260308T080000
END:DAYLIGHT
BEGIN:STANDARD
TZOFFSETFROM:-0500
TZOFFSETTO:-0600
TZNAME:CST
DTSTART:20261101T070000
END:STANDARD
BEGIN:DAYLIGHT
TZOFFSETFROM:-0600
TZOFFSETTO:-0500
TZNAME:CDT
DTSTART:20270314T080000
END:DAYLIGHT
BEGIN:STANDARD
TZOFFSETFROM:-0500
TZOFFSETTO:-0600
TZNAME:CST
DTSTART:20271107T070000
END:STANDARD
END:VTIMEZONE
BEGIN:VEVENT
DTSTART;TZID=America/Chicago:20260525T130000
DTEND;TZID=America/Chicago:20260525T200000
DTSTAMP:20260422T173043
CREATED:20260328T025035Z
LAST-MODIFIED:20260328T025038Z
UID:8334-1779714000-1779739200@sungateliving.com
SUMMARY:Memorial Day
DESCRIPTION:We are open on Memorial Day. Make plans to spend the day with us.  \n\n\n\n\n\n\n\n\n\n\nShare this:\n				Share on Facebook (Opens in new window)\n				Facebook\n			\n				Share on X (Opens in new window)\n				X
URL:https://sungateliving.com/event/memorial-day/
ORGANIZER;CN="Sungate Pool":MAILTO:admin@sungateliving.com
END:VEVENT
BEGIN:VEVENT
DTSTART;TZID=America/Chicago:20260523T100000
DTEND;TZID=America/Chicago:20260523T200000
DTSTAMP:20260422T173043
CREATED:20260328T025159Z
LAST-MODIFIED:20260328T025201Z
UID:8336-1779530400-1779566400@sungateliving.com
SUMMARY:Pool Opens
DESCRIPTION:Sungate Pool opens! \n\n\n\n\n\n\n\n\n\n\nShare this:\n				Share on Facebook (Opens in new window)\n				Facebook\n			\n				Share on X (Opens in new window)\n				X
URL:https://sungateliving.com/event/pool-opens/
ORGANIZER;CN="Sungate Pool":MAILTO:admin@sungateliving.com
END:VEVENT
BEGIN:VEVENT
DTSTART;TZID=America/Chicago:20260518T183000
DTEND;TZID=America/Chicago:20260518T200000
DTSTAMP:20260422T173043
CREATED:20260328T031425Z
LAST-MODIFIED:20260328T031427Z
UID:8340-1779129000-1779134400@sungateliving.com
SUMMARY:SNI Board Meeting
DESCRIPTION:Monthly board meeting. Residents are welcome to attend. \n\n\n\n\n\n\n\n\n\n\nShare this:\n				Share on Facebook (Opens in new window)\n				Facebook\n			\n				Share on X (Opens in new window)\n				X
URL:https://sungateliving.com/event/sni-board-meeting-11/
ORGANIZER;CN="Sungate Neighbors Inc.":MAILTO:admin@sungateliving.com
END:VEVENT
BEGIN:VEVENT
DTSTART;TZID=America/Chicago:20260516T160000
DTEND;TZID=America/Chicago:20260516T223000
DTSTAMP:20260422T173043
CREATED:20260328T024412Z
LAST-MODIFIED:20260413T171717Z
UID:8325-1778947200-1778970600@sungateliving.com
SUMMARY:Open House & Movie on the Lawn
DESCRIPTION:Stop by the pool beginning at 4 pm to check out pool party rentals\, swim lessons. We can answer general questions as well.  \n\n\n\nStick around (or come back) for a Movie on the Lawn.  \n\n\n\nStarting at 6 pm\, the family can enjoy grilled hotdogs\, music\, lawn games\, and inflatables for the kids while you wait for “The Sandlot” to start at 8:15 pm.  \n\n\n\n\n\n\n\n\n\n\nShare this:\n				Share on Facebook (Opens in new window)\n				Facebook\n			\n				Share on X (Opens in new window)\n				X
URL:https://sungateliving.com/event/open-house-movie-on-the-lawn/
ORGANIZER;CN="Sungate Neighbors Inc.":MAILTO:admin@sungateliving.com
END:VEVENT
BEGIN:VEVENT
DTSTART;TZID=America/Chicago:20260424T070000
DTEND;TZID=America/Chicago:20260426T160000
DTSTAMP:20260422T173043
CREATED:20260328T023253Z
LAST-MODIFIED:20260328T040023Z
UID:8320-1777014000-1777219200@sungateliving.com
SUMMARY:Spring Yard Sales 2026
DESCRIPTION:Neighborhood Yard Sales are held twice a year\, in the spring and fall seasons. SNI will hang banners at the neighborhood entrances and post digital ads on Tulsa World and Facebook. Take advantage of the extra people in the area and schedule your yard sale at the same time.  \n\n\n\nFree Dumpsters are provided as a neighborhood service by the City of Tulsa. We schedule these on the Monday and Tuesday following the Yard Sale weekends. \n\n\n\n\n\n\n\n\n\n\nShare this:\n				Share on Facebook (Opens in new window)\n				Facebook\n			\n				Share on X (Opens in new window)\n				X
URL:https://sungateliving.com/event/spring-yard-sales-2026/
ORGANIZER;CN="Sungate Neighbors Inc.":MAILTO:admin@sungateliving.com
END:VEVENT
BEGIN:VEVENT
DTSTART;TZID=America/Chicago:20260420T183000
DTEND;TZID=America/Chicago:20260420T200000
DTSTAMP:20260422T173043
CREATED:20260328T031100Z
LAST-MODIFIED:20260328T031156Z
UID:8338-1776709800-1776715200@sungateliving.com
SUMMARY:SNI Board Meeting
DESCRIPTION:Monthly board meeting. Residents are welcome to attend. \n\n\n\n\n\n\n\n\n\n\nShare this:\n				Share on Facebook (Opens in new window)\n				Facebook\n			\n				Share on X (Opens in new window)\n				X
URL:https://sungateliving.com/event/sni-board-meeting-10/
ORGANIZER;CN="Sungate Neighbors Inc.":MAILTO:admin@sungateliving.com
END:VEVENT
BEGIN:VEVENT
DTSTART;TZID=America/Chicago:20260401T000000
DTEND;TZID=America/Chicago:20260401T235959
DTSTAMP:20260422T173043
CREATED:20260328T024831Z
LAST-MODIFIED:20260328T024833Z
UID:8332-1775001600-1775087999@sungateliving.com
SUMMARY:Pool Rental Dates Open
DESCRIPTION:Pool party rental dates will be available for booking begining on April 1. Pool Party Rental Options \n\n\n\n\n\n\n\n\n\n\nShare this:\n				Share on Facebook (Opens in new window)\n				Facebook\n			\n				Share on X (Opens in new window)\n				X
URL:https://sungateliving.com/event/pool-rental-dates-open/
ORGANIZER;CN="Sungate Pool":MAILTO:admin@sungateliving.com
END:VEVENT
BEGIN:VEVENT
DTSTART;TZID=America/Chicago:20251113T180000
DTEND;TZID=America/Chicago:20251113T193000
DTSTAMP:20260422T173043
CREATED:20250330T163206Z
LAST-MODIFIED:20251111T152826Z
UID:8065-1763056800-1763062200@sungateliving.com
SUMMARY:Annual Meeting of the Shareholders
DESCRIPTION:Join us for the annual meeting of the stakeholders of Sungate Neighbors\, Inc and learn more about how we have been working to maintain our neighborhood and its assets. \n\n\n\nThursday\, November 13 at 6:00 pm \n\n\n\nAt Sungate Pool \n\n\n\n\n\n\n\n\n\n\nShare this:\n				Share on Facebook (Opens in new window)\n				Facebook\n			\n				Share on X (Opens in new window)\n				X
URL:https://sungateliving.com/event/annual-meeting-of-the-shareholders-2/
ORGANIZER;CN="Sungate Neighbors Inc.":MAILTO:admin@sungateliving.com
END:VEVENT
BEGIN:VEVENT
DTSTART;TZID=America/Chicago:20251031T180000
DTEND;TZID=America/Chicago:20251031T210000
DTSTAMP:20260422T173043
CREATED:20250901T193411Z
LAST-MODIFIED:20250901T193414Z
UID:8207-1761933600-1761944400@sungateliving.com
SUMMARY:Fall Block Party
DESCRIPTION:Sungate residents are invited to the Sungate Fall Block Party! Join us for a come and go event. \n\n\n\nInflatables\, games\, trick-or-treating and more. Check back for more details.  \n\n\n\n\n\n\n\n\n\n\nShare this:\n				Share on Facebook (Opens in new window)\n				Facebook\n			\n				Share on X (Opens in new window)\n				X
URL:https://sungateliving.com/event/fall-block-party-2/
ORGANIZER;CN="Sungate Neighbors Inc.":MAILTO:admin@sungateliving.com
END:VEVENT
BEGIN:VEVENT
DTSTART;TZID=America/Chicago:20251028T183000
DTEND;TZID=America/Chicago:20251028T200000
DTSTAMP:20260422T173043
CREATED:20250901T192724Z
LAST-MODIFIED:20250901T192727Z
UID:8203-1761676200-1761681600@sungateliving.com
SUMMARY:SNI Board Meeting
DESCRIPTION:Monthly board meeting. Residents are welcome to attend. \n\n\n\n\n\n\n\n\n\n\nShare this:\n				Share on Facebook (Opens in new window)\n				Facebook\n			\n				Share on X (Opens in new window)\n				X
URL:https://sungateliving.com/event/sni-board-meeting-8/
ORGANIZER;CN="Sungate Neighbors Inc.":MAILTO:admin@sungateliving.com
END:VEVENT
BEGIN:VEVENT
DTSTART;TZID=America/Chicago:20251005T140000
DTEND;TZID=America/Chicago:20251005T170000
DTSTAMP:20260422T173043
CREATED:20250901T192033Z
LAST-MODIFIED:20250901T192036Z
UID:8201-1759672800-1759683600@sungateliving.com
SUMMARY:Pumpkin Plunge
DESCRIPTION:Bring the family out for an unforgettable pumpkin patch… the floating kind! \n\n\n\n Buy some pumpkins.  Come and go\, and hang out with us.  Wade in the baby pool or take a plunge in the big pool. \n\n\n\n\n\n\n\n\nShare this:\n				Share on Facebook (Opens in new window)\n				Facebook\n			\n				Share on X (Opens in new window)\n				X
URL:https://sungateliving.com/event/pumpkin-plunge-2/
ORGANIZER;CN="Sungate Pool":MAILTO:admin@sungateliving.com
END:VEVENT
BEGIN:VEVENT
DTSTART;TZID=America/Chicago:20250923T183000
DTEND;TZID=America/Chicago:20250923T200000
DTSTAMP:20260422T173043
CREATED:20250901T192824Z
LAST-MODIFIED:20250901T192826Z
UID:8205-1758652200-1758657600@sungateliving.com
SUMMARY:SNI Board Meeting
DESCRIPTION:Monthly board meeting. Residents are welcome to attend. \n\n\n\n\n\n\n\n\n\n\nShare this:\n				Share on Facebook (Opens in new window)\n				Facebook\n			\n				Share on X (Opens in new window)\n				X
URL:https://sungateliving.com/event/sni-board-meeting-9/
ORGANIZER;CN="Sungate Neighbors Inc.":MAILTO:admin@sungateliving.com
END:VEVENT
BEGIN:VEVENT
DTSTART;TZID=America/Chicago:20250919T070000
DTEND;TZID=America/Chicago:20250921T160000
DTSTAMP:20260422T173043
CREATED:20250330T161313Z
LAST-MODIFIED:20250330T161317Z
UID:8056-1758265200-1758470400@sungateliving.com
SUMMARY:Fall Yard Sales
DESCRIPTION:Neighborhood Yard Sales are held twice a year\, in the spring and fall seasons. SNI will hang banners at the neighborhood entrances and post digital ads on Tulsa World and Facebook. Take advantage of the extra people in the area and schedule your yard sale at the same time. \n\n\n\n\n\n\n\n\n\n\nShare this:\n				Share on Facebook (Opens in new window)\n				Facebook\n			\n				Share on X (Opens in new window)\n				X
URL:https://sungateliving.com/event/fall-yard-sales-2/
ORGANIZER;CN="Sungate Neighbors Inc.":MAILTO:admin@sungateliving.com
END:VEVENT
BEGIN:VEVENT
DTSTART;TZID=America/Chicago:20250904T190000
DTEND;TZID=America/Chicago:20250904T203000
DTSTAMP:20260422T173043
CREATED:20250828T034203Z
LAST-MODIFIED:20250828T034206Z
UID:8194-1757012400-1757017800@sungateliving.com
SUMMARY:Adult Swim Resident Meet Up
DESCRIPTION:Sungate Board of Directors would like to provide an opportunity for neighbors to meet and visit with one another. Whether you are new to Sungate or you’ve been here awhile\, all residents are welcome to stop by for a causal meet up. \n\n\n\n\n\n\n\n\n\n\nShare this:\n				Share on Facebook (Opens in new window)\n				Facebook\n			\n				Share on X (Opens in new window)\n				X
URL:https://sungateliving.com/event/adult-swim-resident-meet-up/
LOCATION:Sungate Pool\, 5358 S 70th East Pl\, Tulsa\, 74145
ORGANIZER;CN="Sungate Neighbors Inc.":MAILTO:admin@sungateliving.com
END:VEVENT
BEGIN:VEVENT
DTSTART;TZID=America/Chicago:20250831T180000
DTEND;TZID=America/Chicago:20250831T210000
DTSTAMP:20260422T173043
CREATED:20250330T163541Z
LAST-MODIFIED:20250828T034005Z
UID:8069-1756663200-1756674000@sungateliving.com
SUMMARY:CANCELED: Annual Cornhole Tournament
DESCRIPTION:Open to Sungate pool members and all Sungate residents. \n\n\n\nTeams of two\, ages 12 and older\, will play for trophies and prizes in this double elimination tournament. Boards will be provided. Free to play. \n\n\n\nCheck-in begins at 6 pm and first round starts at 6:30 p.m. Games run up to 15 minutes. The time of the Championship Game will be determined based on number of teams and elimination rounds. \n\n\n\nPrizes for 1st Place and 2nd Place finishers as well as a Best Team Name award. \n\n\n\nSign up at sungateliving.com/cornhole starting soon. \n\n\n\n\n\n\n\n\n\n\nShare this:\n				Share on Facebook (Opens in new window)\n				Facebook\n			\n				Share on X (Opens in new window)\n				X
URL:https://sungateliving.com/event/sungate-annual-cornhole-tournament-2/
ORGANIZER;CN="Sungate Pool":MAILTO:admin@sungateliving.com
END:VEVENT
BEGIN:VEVENT
DTSTART;TZID=America/Chicago:20250808T180000
DTEND;TZID=America/Chicago:20250808T210000
DTSTAMP:20260422T173043
CREATED:20250601T233422Z
LAST-MODIFIED:20250601T233426Z
UID:8150-1754676000-1754686800@sungateliving.com
SUMMARY:Luau Late Night Swim
DESCRIPTION:Don’t miss our Luau Party tradition. Costume contest\, the limbo and much more! \n\n\n\n\n\n\n\n\n\n\nShare this:\n				Share on Facebook (Opens in new window)\n				Facebook\n			\n				Share on X (Opens in new window)\n				X
URL:https://sungateliving.com/event/luau-late-night-swim-2/
ORGANIZER;CN="Sungate Pool":MAILTO:admin@sungateliving.com
END:VEVENT
BEGIN:VEVENT
DTSTART;TZID=America/Chicago:20250728T183000
DTEND;TZID=America/Chicago:20250728T200000
DTSTAMP:20260422T173043
CREATED:20250330T170609Z
LAST-MODIFIED:20250330T170630Z
UID:8077-1753727400-1753732800@sungateliving.com
SUMMARY:SNI Board Meeting
DESCRIPTION:Monthly board meeting. Residents are welcome to attend. \n\n\n\n\n\n\n\n\n\n\nShare this:\n				Share on Facebook (Opens in new window)\n				Facebook\n			\n				Share on X (Opens in new window)\n				X
URL:https://sungateliving.com/event/board-meeting-july2025/
ORGANIZER;CN="Sungate Neighbors Inc.":MAILTO:admin@sungateliving.com
END:VEVENT
BEGIN:VEVENT
DTSTART;TZID=America/Chicago:20250725T180000
DTEND;TZID=America/Chicago:20250725T210000
DTSTAMP:20260422T173043
CREATED:20250601T233726Z
LAST-MODIFIED:20250601T233728Z
UID:8152-1753466400-1753477200@sungateliving.com
SUMMARY:Christmas in July Late Night Swim
DESCRIPTION:We are at it again. Wait til you see what we are cooking up for a Christmas in July event.  \n\n\n\n\n\n\n\n\n\n\nShare this:\n				Share on Facebook (Opens in new window)\n				Facebook\n			\n				Share on X (Opens in new window)\n				X
URL:https://sungateliving.com/event/christmas-in-july-late-night-swim/
END:VEVENT
BEGIN:VEVENT
DTSTART;TZID=America/Chicago:20250712T100000
DTEND;TZID=America/Chicago:20250712T120000
DTSTAMP:20260422T173043
CREATED:20250601T233948Z
LAST-MODIFIED:20250601T234038Z
UID:8154-1752314400-1752321600@sungateliving.com
SUMMARY:Saturday Coffee Break
DESCRIPTION:Join us for a chill morning at the swim club with a new take on coffee.  \n\n\n\n\n\n\n\n\n\n\nShare this:\n				Share on Facebook (Opens in new window)\n				Facebook\n			\n				Share on X (Opens in new window)\n				X
URL:https://sungateliving.com/event/saturday-coffee/
END:VEVENT
BEGIN:VEVENT
DTSTART;TZID=America/Chicago:20250704T100000
DTEND;TZID=America/Chicago:20250704T170000
DTSTAMP:20260422T173043
CREATED:20250330T163321Z
LAST-MODIFIED:20250529T003507Z
UID:8067-1751623200-1751648400@sungateliving.com
SUMMARY:Fourth of July Celebration
DESCRIPTION:Join us for the Sungate Annual Fourth of July Celebration. The bike and wagon decorating contest begins at 9 a.m. in Sungate Park\, followed by a short neighborhood parade. \n\n\n\nPool opens at 10 a.m. with swimming races\, water games\, food specials and other fun events throughout the day. Pool closes at 5 p.m. so our staff can enjoy the evening with their families. \n\n\n\n\n\n\n\n\n\n\nShare this:\n				Share on Facebook (Opens in new window)\n				Facebook\n			\n				Share on X (Opens in new window)\n				X
URL:https://sungateliving.com/event/fourth-of-july-celebration-3/
ORGANIZER;CN="Sungate Pool":MAILTO:admin@sungateliving.com
END:VEVENT
BEGIN:VEVENT
DTSTART;TZID=America/Chicago:20250627T180000
DTEND;TZID=America/Chicago:20250627T210000
DTSTAMP:20260422T173043
CREATED:20250601T233206Z
LAST-MODIFIED:20250601T233210Z
UID:8148-1751047200-1751058000@sungateliving.com
SUMMARY:Slide Night Late Night Swim
DESCRIPTION:Enjoy an extra hour at Sungate with large inflatable slide for the kids. Plus it’s Food Truck Friday. \n\n\n\n\n\n\n\n\n\n\nShare this:\n				Share on Facebook (Opens in new window)\n				Facebook\n			\n				Share on X (Opens in new window)\n				X
URL:https://sungateliving.com/event/slide-night-late-night-swim-3/
LOCATION:Sungate Pool\, 5358 S 70th East Pl\, Tulsa\, 74145
ORGANIZER;CN="Sungate Pool":MAILTO:admin@sungateliving.com
END:VEVENT
BEGIN:VEVENT
DTSTART;TZID=America/Chicago:20250627T180000
DTEND;TZID=America/Chicago:20250627T200000
DTSTAMP:20260422T173043
CREATED:20250602T035055Z
LAST-MODIFIED:20250602T035057Z
UID:8166-1751047200-1751054400@sungateliving.com
SUMMARY:Food Truck Friday
DESCRIPTION:It’s too hot to cook\, hit the pool and grab a quick dinner.  \n\n\n\n\n\n\n\n\n\n\nShare this:\n				Share on Facebook (Opens in new window)\n				Facebook\n			\n				Share on X (Opens in new window)\n				X
URL:https://sungateliving.com/event/food-truck-friday-3/
ORGANIZER;CN="Sungate Pool":MAILTO:admin@sungateliving.com
END:VEVENT
BEGIN:VEVENT
DTSTART;TZID=America/Chicago:20250623T183000
DTEND;TZID=America/Chicago:20250623T200000
DTSTAMP:20260422T173043
CREATED:20250330T170328Z
LAST-MODIFIED:20250330T170332Z
UID:8075-1750703400-1750708800@sungateliving.com
SUMMARY:SNI Board Meeting
DESCRIPTION:Monthly board meeting. Residents are welcome to attend. \n\n\n\n\n\n\n\n\n\n\nShare this:\n				Share on Facebook (Opens in new window)\n				Facebook\n			\n				Share on X (Opens in new window)\n				X
URL:https://sungateliving.com/event/board-meeting-june2025/
ORGANIZER;CN="Sungate Neighbors Inc.":MAILTO:admin@sungateliving.com
END:VEVENT
BEGIN:VEVENT
DTSTART;TZID=America/Chicago:20250615T100000
DTEND;TZID=America/Chicago:20250615T130000
DTSTAMP:20260422T173043
CREATED:20250602T034815Z
LAST-MODIFIED:20250602T034819Z
UID:8162-1749981600-1749992400@sungateliving.com
SUMMARY:Father's Day Brunch
DESCRIPTION:Join us for a private event for families. Tickets on sale soon. \n\n\n\n\n\n\n\n\n\n\nShare this:\n				Share on Facebook (Opens in new window)\n				Facebook\n			\n				Share on X (Opens in new window)\n				X
URL:https://sungateliving.com/event/fathers-day-brunch/
ORGANIZER;CN="Sungate Pool":MAILTO:admin@sungateliving.com
END:VEVENT
BEGIN:VEVENT
DTSTART;TZID=America/Chicago:20250613T190000
DTEND;TZID=America/Chicago:20250613T210000
DTSTAMP:20260422T173043
CREATED:20250602T035346Z
LAST-MODIFIED:20250602T035349Z
UID:8168-1749841200-1749848400@sungateliving.com
SUMMARY:Thunder Watch Party
DESCRIPTION:Game 4 may be the big win for the OKC Thunder. We’ll have the game on so you don’t miss a thing.  \n\n\n\n\n\n\n\n\n\n\nShare this:\n				Share on Facebook (Opens in new window)\n				Facebook\n			\n				Share on X (Opens in new window)\n				X
URL:https://sungateliving.com/event/thunder-watch-party/
ORGANIZER;CN="Sungate Pool":MAILTO:admin@sungateliving.com
END:VEVENT
BEGIN:VEVENT
DTSTART;TZID=America/Chicago:20250613T180000
DTEND;TZID=America/Chicago:20250613T200000
DTSTAMP:20260422T173043
CREATED:20250602T034930Z
LAST-MODIFIED:20250602T034933Z
UID:8164-1749837600-1749844800@sungateliving.com
SUMMARY:Food Truck Friday
DESCRIPTION:Grab some delicious dinner during our Food Truck Friday.  \n\n\n\n\n\n\n\n\n\n\nShare this:\n				Share on Facebook (Opens in new window)\n				Facebook\n			\n				Share on X (Opens in new window)\n				X
URL:https://sungateliving.com/event/food-truck-friday-2/
ORGANIZER;CN="Sungate Pool":MAILTO:admin@sungateliving.com
END:VEVENT
BEGIN:VEVENT
DTSTART;TZID=America/Chicago:20250526T130000
DTEND;TZID=America/Chicago:20250526T200000
DTSTAMP:20260422T173043
CREATED:20250330T162935Z
LAST-MODIFIED:20250330T162938Z
UID:8063-1748264400-1748289600@sungateliving.com
SUMMARY:Memorial Day Activities
DESCRIPTION:Share this:\n				Share on Facebook (Opens in new window)\n				Facebook\n			\n				Share on X (Opens in new window)\n				X
URL:https://sungateliving.com/event/memorial-day-activities-2/
ORGANIZER;CN="Sungate Pool":MAILTO:admin@sungateliving.com
END:VEVENT
BEGIN:VEVENT
DTSTART;TZID=America/Chicago:20250524T130000
DTEND;TZID=America/Chicago:20250524T200000
DTSTAMP:20260422T173043
CREATED:20250330T161726Z
LAST-MODIFIED:20250330T161729Z
UID:8058-1748091600-1748116800@sungateliving.com
SUMMARY:Opening Day
DESCRIPTION:Sungate Pool opens! \n\n\n\n\n\n\n\n\n\n\nShare this:\n				Share on Facebook (Opens in new window)\n				Facebook\n			\n				Share on X (Opens in new window)\n				X
URL:https://sungateliving.com/event/opening-day-2/
ORGANIZER;CN="Sungate Pool":MAILTO:admin@sungateliving.com
END:VEVENT
BEGIN:VEVENT
DTSTART;TZID=America/Chicago:20250520T183000
DTEND;TZID=America/Chicago:20250520T200000
DTSTAMP:20260422T173043
CREATED:20250330T170211Z
LAST-MODIFIED:20250516T124517Z
UID:8073-1747765800-1747771200@sungateliving.com
SUMMARY:SNI Board Meeting
DESCRIPTION:Monthly board meeting. Residents are welcome to attend. \n\n\n\n\n\n\n\n\n\n\nShare this:\n				Share on Facebook (Opens in new window)\n				Facebook\n			\n				Share on X (Opens in new window)\n				X
URL:https://sungateliving.com/event/board-meeting-may2025/
ORGANIZER;CN="Sungate Neighbors Inc.":MAILTO:admin@sungateliving.com
END:VEVENT
BEGIN:VEVENT
DTSTART;TZID=America/Chicago:20250520T180000
DTEND;TZID=America/Chicago:20250520T200000
DTSTAMP:20260422T173043
CREATED:20250330T162459Z
LAST-MODIFIED:20250516T124606Z
UID:8060-1747764000-1747771200@sungateliving.com
SUMMARY:Pool Open House
DESCRIPTION:Learn about pool memberships\, swim lessons and pool parties. Staff will be on hand to answer questions. \n\n\n\nNo lifeguards on duty. Baby pool will be available for wading. \n\n\n\n\n\n\n\n\n\n\nShare this:\n				Share on Facebook (Opens in new window)\n				Facebook\n			\n				Share on X (Opens in new window)\n				X
URL:https://sungateliving.com/event/pool-open-house-3/
ORGANIZER;CN="Sungate Pool":MAILTO:admin@sungateliving.com
END:VEVENT
END:VCALENDAR